BEGIN:VCALENDAR
VERSION:2.0
PRODID:-//meetXR - ECPv5.8.0//NONSGML v1.0//EN
CALSCALE:GREGORIAN
METHOD:PUBLISH
X-WR-CALNAME:meetXR
X-ORIGINAL-URL:https://www.meetxr.de
X-WR-CALDESC:Veranstaltungen für meetXR
BEGIN:VTIMEZONE
TZID:Europe/Berlin
BEGIN:DAYLIGHT
TZOFFSETFROM:+0100
TZOFFSETTO:+0200
TZNAME:CEST
DTSTART:20190331T010000
END:DAYLIGHT
BEGIN:STANDARD
TZOFFSETFROM:+0200
TZOFFSETTO:+0100
TZNAME:CET
DTSTART:20191027T010000
END:STANDARD
END:VTIMEZONE
BEGIN:VEVENT
DTSTART;TZID=Europe/Berlin:20190302T110000
DTEND;TZID=Europe/Berlin:20190302T220000
DTSTAMP:20260425T224227
CREATED:20190114T184606Z
LAST-MODIFIED:20190114T184651Z
UID:974-1551524400-1551564000@www.meetxr.de
SUMMARY:VirtuaSmash
DESCRIPTION:VirtuaSmash geht in die erste Runde!\nMit dem Erscheinen von Super Smash Brothers Ultimate bekommt unsere beliebte Turnierserie VR Smash ein neues Gewand! Wir laden herzlich zum ersten Super Smash Bros. Ultimate Turnier ein – natürlich wie gehabt mit Virtual Reality. \nDenn vor Ort habt ihr aber nicht nur die Möglichkeit am Smash Turnier teilzunehmen\, sondern auch alle möglichen Virtual Reality Spiele mit der HTC Vive auszuprobieren – ein wahrlich einzigartiges Erlebnis. Hierzu stehen bis zu 3 VR-Felder bereit auf denen ihr genug Platz habt\, um euch in zahlreichen Single- oder Multiplayer Spielen zu vergnügen. \nMehr Infos und Anmeldung hier:\nwww.virtualounge.de/smash
URL:https://www.meetxr.de/event/virtuasmash-2/
LOCATION:VirtuaLounge\, Kleine Burg 15\, Braunschweig\, 38100\, Deutschland
CATEGORIES:play
ATTACH;FMTTYPE=image/jpeg:https://www.meetxr.de/wp-content/uploads/2019/01/2019-02-02_VirtuaSmash.jpg
END:VEVENT
END:VCALENDAR