BEGIN:VCALENDAR
VERSION:2.0
PRODID:-//meetXR - ECPv5.8.0//NONSGML v1.0//EN
CALSCALE:GREGORIAN
METHOD:PUBLISH
X-WR-CALNAME:meetXR
X-ORIGINAL-URL:https://www.meetxr.de
X-WR-CALDESC:Veranstaltungen für meetXR
BEGIN:VTIMEZONE
TZID:Europe/Berlin
BEGIN:DAYLIGHT
TZOFFSETFROM:+0100
TZOFFSETTO:+0200
TZNAME:CEST
DTSTART:20210328T010000
END:DAYLIGHT
BEGIN:STANDARD
TZOFFSETFROM:+0200
TZOFFSETTO:+0100
TZNAME:CET
DTSTART:20211031T010000
END:STANDARD
END:VTIMEZONE
BEGIN:VEVENT
DTSTART;TZID=Europe/Berlin:20210421T190000
DTEND;TZID=Europe/Berlin:20210421T210000
DTSTAMP:20260425T212923
CREATED:20210407T104809Z
LAST-MODIFIED:20210407T104809Z
UID:2960-1619031600-1619038800@www.meetxr.de
SUMMARY:Virtual VR Barcamp: Themensammlung
DESCRIPTION:Unser Kick-Off-Meeting zu den VR Barcamps am 31.03. hat schon ein paar interessante Themen hervorgebracht: „VR & Senioren“\, „VR Meditation & Achtsamkeit“\, „VR gegen die Einsamkeit“\, „Hamburg & VR“ und die immer wieder spannenden Themen „Storytelling in VR“ und „VR & künstlerischer Ausdruck“. \nNun haben wir schon ein paar potentielle Session-Hosts für ein virtuelles VR Barcamp – aber noch nicht genug. Deshalb sammeln wir weiter. \nAber\, wir haben nicht nur Themen gesammelt\, sondern uns vor allem intensiv über unsere Interessen an VR und die bisherigen Erfahrungen ausgetauscht. Es war also ein Virtual Reality Meetup „back to the roots“. \nWie geht es weiter?\nBeim Meetup am 21.04. werden wir dort anschließen\, wo wir beim letzten Mal aufgehört haben. Wir wollen Themen für das VR Barcamp sammeln\, Gespräche führen\, uns kennenlernen und vernetzen. Und wir wollen über die Optionen für ein „Schwarzes Brett“ für unser Virtual Reality Hamburg Meetup Netzwerk sprechen. Und zunächst machen wir das weiterhin über Zoom* Meetings. \nAblauf:\n1) Kurze Vorstellung aller Teilnehmer*innen (max. eine Minute pro Person\, überlege Dir vorab schon drei Begriffe\, die Deine Interessen skizzieren)\n2) Vorstellung von Themen für das VR Barcamp (wenn Du keine eigene Session anbieten willst\, kannst Du auch eine Frage einbringen)\n3) Austausch zu den Themen und den persönlichen Anliegen bzgl. VR (dies kann ggf. in kleinen Gruppen in gesonderten Zoom-Räumen stattfinden)\n4) Digitales „Schwarzes Brett“ im Chat-Fenster: Festhalten von Themen für ein VR Barcamp\, weiterführende Infos zu Themen\, Austausch von Informationen zur Kontaktaufnahme\, Wen benötigst Du für Dein VR-Projekt\, URLs o.ä.\n5) Abschlussrunde (was nimmst Du aus dem Meetup mit?) \n\n*Anmerkung: Warum via zoom?\nWir wollen die Zugangsbarrieren zu dem Meetup weiterhin möglichst niedrig halten und starten deshalb im „Erdgeschoß“ und nicht gleich auf der Helikopter-Plattform. In Zukunft können wir eventuell noch zusätzlich AltspaceVR\, mozilla hubs\, discord oder andere Plattformen nutzen. Erfahrungsgemäß ist der Zugang zu diesen Plattformen für viele Menschen aber immer noch eine Herausforderung und nicht jede*r will sich bei zig Services registrieren.
URL:https://www.meetxr.de/event/virtual-vr-barcamp-themensammlung/
LOCATION:Zoom Meeting\, Zoom
CATEGORIES:talk
ATTACH;FMTTYPE=image/png:https://www.meetxr.de/wp-content/uploads/2021/04/2021-04-21_Barcamp.png
END:VEVENT
END:VCALENDAR