BEGIN:VCALENDAR
VERSION:2.0
PRODID:-//meetXR - ECPv5.8.0//NONSGML v1.0//EN
CALSCALE:GREGORIAN
METHOD:PUBLISH
X-WR-CALNAME:meetXR
X-ORIGINAL-URL:https://www.meetxr.de
X-WR-CALDESC:Veranstaltungen für meetXR
BEGIN:VTIMEZONE
TZID:Europe/Berlin
BEGIN:DAYLIGHT
TZOFFSETFROM:+0100
TZOFFSETTO:+0200
TZNAME:CEST
DTSTART:20180325T010000
END:DAYLIGHT
BEGIN:STANDARD
TZOFFSETFROM:+0200
TZOFFSETTO:+0100
TZNAME:CET
DTSTART:20181028T010000
END:STANDARD
END:VTIMEZONE
BEGIN:VEVENT
DTSTART;TZID=Europe/Berlin:20181010T190000
DTEND;TZID=Europe/Berlin:20181010T220000
DTSTAMP:20260425T211501
CREATED:20180816T093934Z
LAST-MODIFIED:20180917T104317Z
UID:130-1539198000-1539208800@www.meetxr.de
SUMMARY:Virtual Reality Tools
DESCRIPTION:Immer mehr Branchen und Unternehmen nutzen die Möglichkeiten des virtuellen Raums\, um Modelle zu entwickeln\, effizientere Arbeitsumgebungen zu schaffen oder Simulationen zu ermöglichen. Wir möchten bei unserem nächsten Meetup einige dieser Werkzeuge vorstellen und zeigen\, wie bereits mit und in Virtual Reality gearbeitet wird. \nWer nutzt diese Technologie bereits? Wie anwendungsnah sind die Tools wirklich? Und welchen Nutzen haben einzelne Unternehmen und Branchen von deren Einsatz? \nDarüber möchten wir bei unserem nächsten Meetup am 10. Oktober um 19:00 Uhr im betahaus Hamburg gemeinsam mit Euch diskutieren. \nDu nutzt Virtual Reality bereits als Werkzeug in deinem Arbeitsalltag oder hast sogar ein eigenes Tool entwickelt? Dann melde Dich gerne unter vr@projektwerft.de\, um Dein VR-Arbeitstool vorzustellen. \nWir freuen uns auf ein spannendes Meetup! \nAnmeldung bei Meetup \n\n\n\nVirtual Reality Tools\nWednesday\, Oct 10\, 2018\,  7:00 PM \nbetahaus – coworking hamburgEifflerstraße 43 Hamburg\, DE \n          55 Mitglieder Attending            \n\n\n\n\n\n\n\n\n\n\n\n\n\n\n\n\n \nImmer mehr Branchen und Unternehmen nutzen die Möglichkeiten des virtuellen Raums\, um Modelle zu entwickeln\, effizientere Arbeitsumgebungen zu schaffen oder Simulationen zu ermöglichen. Wir möchten bei unserem nächsten Meetup einige dieser Werkzeuge vorstellen und zeigen\, wie bereits mit und in Virtual Reality gearbeitet wird.  Wer nutzt diese Tech… \n \nCheck out this Meetup →
URL:https://www.meetxr.de/event/virtual-reality-hamburg-meetup-save-the-date/
LOCATION:betahaus – coworking hamburg\, Eifflerstraße 43\, Hamburg\, 22769\, Deutschland
CATEGORIES:talk
ATTACH;FMTTYPE=image/png:https://www.meetxr.de/wp-content/uploads/2018/08/2018-10-10_VRHamburg.png
END:VEVENT
END:VCALENDAR