BEGIN:VCALENDAR
VERSION:2.0
PRODID:-//meetXR - ECPv5.8.0//NONSGML v1.0//EN
CALSCALE:GREGORIAN
METHOD:PUBLISH
X-WR-CALNAME:meetXR
X-ORIGINAL-URL:https://www.meetxr.de
X-WR-CALDESC:Veranstaltungen für meetXR
BEGIN:VTIMEZONE
TZID:Europe/Berlin
BEGIN:DAYLIGHT
TZOFFSETFROM:+0100
TZOFFSETTO:+0200
TZNAME:CEST
DTSTART:20180325T010000
END:DAYLIGHT
BEGIN:STANDARD
TZOFFSETFROM:+0200
TZOFFSETTO:+0100
TZNAME:CET
DTSTART:20181028T010000
END:STANDARD
END:VTIMEZONE
BEGIN:VEVENT
DTSTART;TZID=Europe/Berlin:20181106T083000
DTEND;TZID=Europe/Berlin:20181106T123000
DTSTAMP:20260425T211503
CREATED:20180822T151839Z
LAST-MODIFIED:20180822T151839Z
UID:602-1541493000-1541507400@www.meetxr.de
SUMMARY:Virtual Reality Demo Day in Frankfurt
DESCRIPTION:Korrektes Verhalten trainieren in Virtual Reality\nKorrektes Verhalten für die Schlüsselmomente Ihrer Produktion erlernen – Operators werden optimal auf korrektes Verhalten im Reinraum\, bei Störszenarien und in Gefahrensituationen trainiert (auch unter Stress). Durch Virtual Reality werden Trainings von physischen Maschinen entkoppelt und aus der laufenden Produktion in eine risikofreie Lernumgebung verlagert. Dadurch werden Risiken wie Kontaminationsfreisetzung vorgebeugt und Schulungskosten erheblich reduziert\, v.a. durch die Reduktion von Maschinen-Downtime. \nAls Produktionsbetrieb erfahren Sie beim Demo Day\, welche Vorteile Virtual Reality als Trainingsmethode bietet: in virtuellen Schlüsselmomenten der Produktion wird korrektes Verhalten risikofrei\, sicher und schnell eingeübt. Lernerfolge werden gemessen und Feedback datengestützt an Trainer und Operator kommuniziert. Hauptnutzen dabei ist\, dass Operators aus ihren Fehlern lernen und korrektes Verhalten zuverlässiger in der täglichen Produktion umsetzen. Zudem wird die Motivation durch das Trainingsdesign erhöht\, indem die Operator gleichermaßen gefordert werden und Spaß am Training haben. \nBeim Demo Day erfahren Sie…\n\nmittels Live-Demo\, wie ein Training für korrektes Verhalten im Reinraum in Virtual Reality funktioniert.\nwelche Vorteile Virtual Reality für das Training von Produktionsprozessen\, das richtige Verhalten im Reinraum und den Umgang mit Störszenarien bietet.\nwie sich Virtual Reality Trainings bei großem Schulungsbedarf im Unternehmen skalieren lassen.\nwie Sie mit Virtual Reality den Organisationsaufwand Ihrer Trainings minimieren\, die Datenanalyse nutzen und Kosten reduzieren.\nwie das Trainingstool bei Novartis/Sandoz angewendet wird und welchen Nutzen dies für Mitarbeiter und das Unternehmen bietet.\nwie Ihr Trainings-Case systematisch in einem Use Case Evaluations Workshop mit dem Fit-Model evaluiert wird.\n\nProgramm Virtual Reality Trainings: Korrektes Verhalten im Reinraum und bei Störszenarien in der Produktion\nSnacks & Get Together \nFACHVORTRAG: Produktionsprozesse optimieren durch Virtual Reality Trainings \n\nLernen aus Erfahrung als Schlüssel für effektives Training von Produktionsprozessen im Reinraum\nKorrektes Verhalten bei Störszenarien trainieren: Virtual Reality als ideales Medium für risikofreies Lernen\nDas Fit-Modell: Unser Tool zur systematischen Evaluation von Business Cases\n\nCASE STUDY: Einsatz von Virtual Reality Trainings bei Novartis/Sandoz von André Karrer \n\nEntwicklung des Virtual Reality Trainings: Vom Projektstart bis zum fertigen Produkt\nNutzen für Sandoz: ROI des Virtual Reality Trainings und Feedback der Mitarbeiter\nNutzen für Ihr Unternehmen: Faktoren für ROI-Berechnung und Roadmap zur Implementierung\n\nDEMO UND DISKUSSION: Ein Virtual Reality Training selbst ausprobieren und Business-Case evaluieren \n\nStation 1: Testen Sie selbst ein Virtual Reality Training für Produktionsprozessen\nStation 2: Wie Ihr Virtual Reality Training für korrektes Verhalten im Reinraum aussehen kann\nStation 3: Evaluation von Business-Cases\n\nAbschluss Demo Day \n  \nAnmeldung und Teilnahmegebühr\n-30% auf Early-Bird-Tickets bis zum 25.10.2018. Danach 79\,00 EUR pro Person für ein Standardticket. Die Teilnehmerzahl ist limitiert. Die Zahlungsabwicklung läuft online über Eventbrite. \n  \n—————————————————————————————— \nCorrect behavior in production processes through Virtual Reality trainings\nTrain correct behavior in key moments of your production – operators are trained efficiently for correct behavior in clean rooms\, for incident handling and dangerous situations. In Virtual Reality\, trainings are decoupled from the physical machines and transferred from a live production into a risk-free learning environment. This prevents risks such as contamination and significantly reduces training costs\, such as the reduction of machine downtime. \nExperience the advantages Virtual Reality offers as a training method yourself: correct behavior can be trained safely and quickly for virtual key moments of your production. Learning outcomes are measured and feedback is communicated to the operator in a data-supported way. As the main benefit\, the operators learn from their mistakes and implement correct behavior more reliably in daily production processes. In addition\, our training design increases the operators‘ motivation and productivity as they are both being challenged by the training and enjoying it. \nAt the Demo Day you will learn …\n\nthrough a live demo how a Virtual Reality training for correct behavior in the cleanroom works.\nwhich advantages Virtual Reality offers for the training of production processes\, correct behavior in clean rooms and the handling of incidents.\nhow to scale up Virtual Reality trainings at an especially high need in your enterprise.\nhow to optimize training efficiency and effectiveness through using data analysis and reducing costs with Virtual Reality.\nhow our Virtual Reality training tool is used at Novartis / Sandoz and how it benefits both employees and the company.\nhow your training cases are systematically evaluated in a Use Case Evaluation Workshop using the Fit-model.\n\nProgram Virtual Reality training: Correct behavior in production processes\nCoffee & Get Together \nEXPERT PRESENTATION: Optimize production processes through Virtual Reality training \n\n‘Learning from experience’ as a key technique to effective training of production processes in cleanrooms\nTraining incidents: Virtual Reality as the ideal medium for risk-free learning\nThe Fit-model: our tool to systematic evaluation of business cases\n\nCASE STUDY: Use of our Virtual Reality ‘Line Clearance’ training at Novartis / Sandoz by André Karrer \n\nRoadmap for the implementation of the Virtual Reality training at Novartis / Sandoz\nBenefits: ROI of Virtual Reality training and feedback from employees\nUse case: Cleanroom-Behavior training\n\nDEMO AND DISCUSSION: Test Virtual Reality trainings yourself and evaluate your business case \n\nStation 1: test a Virtual Reality training for production processes\nStation 2: how a cleanroom behavior training in Virtual Reality looks like\nStation 3: evaluation of business cases\n\nClosing Demo Day \n\nRegistration and participation fee:\n-30% for Early Bird tickets until 25.10.2018. Then\, 79.00 EUR per person for a standard ticket. Payment process is executed online via Eventbrite. Number of participants is limited.
URL:https://www.meetxr.de/event/virtual-reality-demo-day-in-frankfurt/
LOCATION:House of Pharma & Healthcare e.V.\, Theodor-W.-Adorno-Platz 1\, Frankfurt am Main\, 60629
CATEGORIES:talk
ATTACH;FMTTYPE=image/jpeg:https://www.meetxr.de/wp-content/uploads/2018/08/602_image_original.jpg
END:VEVENT
END:VCALENDAR