BEGIN:VCALENDAR
VERSION:2.0
PRODID:-//meetXR - ECPv5.8.0//NONSGML v1.0//EN
CALSCALE:GREGORIAN
METHOD:PUBLISH
X-WR-CALNAME:meetXR
X-ORIGINAL-URL:https://www.meetxr.de
X-WR-CALDESC:Veranstaltungen für meetXR
BEGIN:VTIMEZONE
TZID:Europe/Berlin
BEGIN:DAYLIGHT
TZOFFSETFROM:+0100
TZOFFSETTO:+0200
TZNAME:CEST
DTSTART:20180325T010000
END:DAYLIGHT
BEGIN:STANDARD
TZOFFSETFROM:+0200
TZOFFSETTO:+0100
TZNAME:CET
DTSTART:20181028T010000
END:STANDARD
END:VTIMEZONE
BEGIN:VEVENT
DTSTART;TZID=Europe/Berlin:20181117T120000
DTEND;TZID=Europe/Berlin:20181117T180000
DTSTAMP:20260425T212814
CREATED:20180819T204742Z
LAST-MODIFIED:20180819T204742Z
UID:510-1542456000-1542477600@www.meetxr.de
SUMMARY:Virtual Reality Day 2018
DESCRIPTION:Celebrate global Virtual Reality Day by attending this local event near you. Learn and experience from different VR/AR demonstrations. Become educated about virtual and augmented reality. Have your first virtual reality experience. Ask questions. Meet the local VR/AR community. \nThe 2nd Annual Global Virtual Reality Day will take place Saturday\, November 17th\, 2018.\n \nVirtual Reality Day is a series of VR/AR events organized worldwide to help virtual and augmented reality become more mainstream. Any individual\, company or organization can host a free public VR/AR event and become part of the Virtual Reality Day phenomenon. This is a completely voluntary and grassroots effort. It’s about bringing the energy and interests of the greater community together\, and focusing that energy for the benefit of everyone on one special day. \nList of venues 2018
URL:https://www.meetxr.de/event/virtual-reality-day-2018/
LOCATION:Virtual Reality Day\, weltweit\, Braunschweig\, Hannover
CATEGORIES:play
ATTACH;FMTTYPE=image/jpeg:https://www.meetxr.de/wp-content/uploads/2018/08/2018-11-17_VirtualRealityDay.jpg
END:VEVENT
END:VCALENDAR