BEGIN:VCALENDAR
VERSION:2.0
PRODID:-//meetXR - ECPv5.8.0//NONSGML v1.0//EN
CALSCALE:GREGORIAN
METHOD:PUBLISH
X-WR-CALNAME:meetXR
X-ORIGINAL-URL:https://www.meetxr.de
X-WR-CALDESC:Veranstaltungen für meetXR
BEGIN:VTIMEZONE
TZID:Europe/Berlin
BEGIN:DAYLIGHT
TZOFFSETFROM:+0100
TZOFFSETTO:+0200
TZNAME:CEST
DTSTART:20220327T010000
END:DAYLIGHT
BEGIN:STANDARD
TZOFFSETFROM:+0200
TZOFFSETTO:+0100
TZNAME:CET
DTSTART:20221030T010000
END:STANDARD
END:VTIMEZONE
BEGIN:VEVENT
DTSTART;TZID=Europe/Berlin:20220802T200000
DTEND;TZID=Europe/Berlin:20220802T220000
DTSTAMP:20260425T172514
CREATED:20220726T134929Z
LAST-MODIFIED:20220727T102910Z
UID:4995-1659470400-1659477600@www.meetxr.de
SUMMARY:Virtual Germany – Quiz Night: VR-History
DESCRIPTION:Vor mittlerweile 10 Jahren wurde der Virtual Reality Hype durch die Oculus Kickstarter Kampagne erneut entfacht und seither hat sich eine ganze Menge getan. Kabelloses Streaming\, Autarke Headsets\, Video See-Through Augmented Reality und und und. \nBei der ersten interaktiven Virtual Germany Quiz Night werfen wir einen Blick zurück auf die bewegte Dekade. Hierzu treffen wir uns auf der Plattform ENGAGE und spielen gemeinsam ein Community Quiz\, bei dem ihr euer VR & AR Trivialwissen unter Beweis stellen könnt. Hierbei winkt den besten Quizteilnehmern eine kleine Überraschung. \nAnschließend an das Quiz gibt es für alle Teilnehmer genügend Zeit zum Kennenlernen und Netzwerken. Darüber hinaus wird es eine separate Community Bühne (Open Mic) geben\, bei der in getakteten Zeitslots jeder die Gelegenheit hat sich und z.B. sein Projekt vorzustellen.\nFalls ihr Interesse habt\, hierfür einen Beitrag vorzubereiten\, schickt bitte vorab eine Nachricht an mail@virtueron.de oder meldet euch auf unserem Discord. \nEvent Zeitplan\n20:00 – 21:00 Uhr Eventauftakt + Quiz\nAb 21:00 Uhr Open Mic & Networking \nHier geht’s zur Anmeldung auf Engage \nEin paar kurze Onboarding-Infos findet ihr unter https://www.virtual-germany.org/blog/onboarding \nDisclaimer: Wir zeichnen unser virtuelles Meetup auf und übertragen es live auf YouTube. Dieses umfasst auch die Aufzeichnung eurer selbstgewählten Avatare\, eurer Stimmen und ggf. eures Usernames. Mit der Teilnahme und dem Betreten der Veranstaltung erklärt ihr euch damit einverstanden.
URL:https://www.meetxr.de/event/virtual-germany-quiz-night-vr-history/
LOCATION:ENGAGE\, ENGAGE
CATEGORIES:talk
ATTACH;FMTTYPE=image/jpeg:https://www.meetxr.de/wp-content/uploads/2022/07/2022-08-02_VirtualGermanyXRQuiz.jpg
ORGANIZER;CN="Virtual%20Germany":MAILTO:https://www.meetup.com/de-DE/Virtual-Reality-Germany/
END:VEVENT
END:VCALENDAR