BEGIN:VCALENDAR
VERSION:2.0
PRODID:-//meetXR - ECPv5.8.0//NONSGML v1.0//EN
CALSCALE:GREGORIAN
METHOD:PUBLISH
X-WR-CALNAME:meetXR
X-ORIGINAL-URL:https://www.meetxr.de
X-WR-CALDESC:Veranstaltungen für meetXR
BEGIN:VTIMEZONE
TZID:Europe/Berlin
BEGIN:DAYLIGHT
TZOFFSETFROM:+0100
TZOFFSETTO:+0200
TZNAME:CEST
DTSTART:20210328T010000
END:DAYLIGHT
BEGIN:STANDARD
TZOFFSETFROM:+0200
TZOFFSETTO:+0100
TZNAME:CET
DTSTART:20211031T010000
END:STANDARD
END:VTIMEZONE
BEGIN:VEVENT
DTSTART;TZID=Europe/Berlin:20210428T200000
DTEND;TZID=Europe/Berlin:20210428T230000
DTSTAMP:20260425T184847
CREATED:20210305T130450Z
LAST-MODIFIED:20210423T094339Z
UID:2833-1619640000-1619650800@www.meetxr.de
SUMMARY:Virtual Germany #4 – A Virtual Convention
DESCRIPTION:Am 28. April 2021 findet das mittlerweile vierte Virtual Germany Event statt. Diesmal planen wir eine Virtual Reality Convention – kurz „Virtual Convention“. Im großen und ganzen soll es ähnlich wie auf der Gamescom verschiedene virtuelle Räume mit verschiedenen Inhalten geben. \nMit dem neuartigen Konzept kommen sowohl VR-Enthusiasten mit High-End Hardware\, als auch „casual Nutzer“\, die auf einer mobilen Brille (z.B. Quest) oder per Bildschirm teilnehmen möchten\, auf ihre Kosten. \nProgramm\n20:00 Uhr\nEröffnung in NeosVR und Mozilla Hubs \n20:00 – 21:30 Uhr\nAusstellung und Convention in NeosVR und Mozilla Hubs \nab 21:30 Uhr:\nNetworking und Afterparty in Tivoli Cloud VR \nDie über 20 Aussteller:innen\, Instruktionen zum Onboarding und das Programm findet ihr unter https://virtual-germany.online/ \nWas ist Virtual Germany?\nVirtual Germany ist ein virtuelles XR Meetup\, das von VR- und AR-Communities aus ganz Deutschland gemeinsam organisiert wird. Unser Ziel ist es\, die Vernetzung deutschsprachiger XR Communities voranzutreiben und dadurch gemeinsam organisierte Projekte und Veranstaltungen zu ermöglichen. Aktuell dabei sind die Communities aus Berlin\, Bremen\, Chemnitz\, Dresden\, Düsseldorf\, Erfurt\, Frankfurt\, Hamburg\, Hannover\, Karlsruhe\, Köln\, Leipzig\, Nürnberg und München. \nWie kann ich teilnehmen?\nAuf unserer Webseite https://virtual-germany.online/ findet ihr Informationen zu den Plattformen Mozilla Hubs\, NeosVR und Tivoli Cloud VR. Ihr könnt sowohl mit als auch ohne VR Headset teilnehmen. \nKommunikation auf Discord\nFür Gespräche mit anderen Teilnehmern vor und nach dem Event seid ihr herzlich in unseren Discord Server eingeladen: https://discord.gg/HJYjNqV\nHier steht auch ein Support-Channel bereit\, falls ihr technische Schwierigkeiten oder sonstige Fragen ans Orgateam habt. \nDisclaimer und Code of Conduct\nVirtual Germany ist unser erste virtuelles Meetup dieser Größenordnung auf AltspaceVR. Bringt also etwas Geduld mit\, falls es zu technischen Schwierigkeiten kommt. Wir wollen mit euch gemeinsam ausprobieren\, welche Möglichkeiten die virtuelle Realität bietet\, für die wir uns alle so begeistern. \nWie auch bei unseren realen Meetups unserer Community dulden wir keinerlei respektloses\, diskriminierendes\, rassistisches oder sexistisches Verhalten. Jedes inakzeptable Verhalten führt direkt zu einem Ausschluss von der Veranstaltung durch unsere Mods. \nWir zeichnen unser virtuelles Meetup auf und übertragen es live auf YouTube. Dieses umfasst auch die Aufzeichnung eurer selbstgewählten Avatare\, eurer Stimmen und ggf. eures Usernames. Mit der Teilnahme und dem Betreten der Veranstaltung erklärt ihr euch damit einverstanden.
URL:https://www.meetxr.de/event/virtual-germany-4-a-virtual-convention/
LOCATION:Online Event\, online
CATEGORIES:talk
ATTACH;FMTTYPE=image/jpeg:https://www.meetxr.de/wp-content/uploads/2021/03/210428_VirtualGermany_4_FullHD_V2.jpg
END:VEVENT
END:VCALENDAR