BEGIN:VCALENDAR
VERSION:2.0
PRODID:-//meetXR - ECPv5.8.0//NONSGML v1.0//EN
CALSCALE:GREGORIAN
METHOD:PUBLISH
X-WR-CALNAME:meetXR
X-ORIGINAL-URL:https://www.meetxr.de
X-WR-CALDESC:Veranstaltungen für meetXR
BEGIN:VTIMEZONE
TZID:Europe/Berlin
BEGIN:DAYLIGHT
TZOFFSETFROM:+0100
TZOFFSETTO:+0200
TZNAME:CEST
DTSTART:20200329T010000
END:DAYLIGHT
BEGIN:STANDARD
TZOFFSETFROM:+0200
TZOFFSETTO:+0100
TZNAME:CET
DTSTART:20201025T010000
END:STANDARD
END:VTIMEZONE
BEGIN:VEVENT
DTSTART;TZID=Europe/Berlin:20200514T190000
DTEND;TZID=Europe/Berlin:20200514T210000
DTSTAMP:20260425T185205
CREATED:20200420T153925Z
LAST-MODIFIED:20200420T153925Z
UID:2549-1589482800-1589490000@www.meetxr.de
SUMMARY:Virtual Events – Potenziale und Limitationen von SocialVR
DESCRIPTION:Save the Date: am 14. Mai um 19 Uhr findet unser nächstes virtuelles Meetup statt. \nVon Familientreffen über Teammeetings bis zu Vorlesungen in der Uni: ein Großteil unseres Lebens passiert momentan digital. So auch unser nächstes Meetup\, das wir zum zweiten Mal in die virtuelle Welt von AltspaceVR verlegen. Passend dazu wollen wir über die Möglichkeiten und Grenzen von virtuellen Events sprechen. \nMehr Infos folgen bald. \nWir freuen uns schon auf euch\,\neuer nextReality.Hamburg-Team \n\nDie Teilnahme ist ganz einfach! Hier sind die wichtigsten Schritte: \nZunächst benötigt ihr einen AltspaceVR Account. Falls ihr noch keinen habt\, könnt ihr den hier einrichten:\nhttps://account.altvr.com/users/sign_up \nDas wunderbare an AltspaceVR ist\, dass es für alle gängigen VR-Systeme zur Verfügung steht. Die jeweiligen Clients findet ihr hier:\nhttps://altvr.com/get-altspacevr/ \nNoch schöner: AltspaceVR setzt nicht zwingend eine VR-Brille voraus\, sondern kann auch am Bildschirm erlebt werden. Den 2D-Clienten für Windows findet ihr hier:\nhttps://account.altvr.com/downloads \nAlles\, was ihr dann noch tun müsst\, ist den Link zu unseren Event zu folgen und auf „Interested“ zu klicken. So findet ihr das Event in VR oder im 2D-Modus schnell wieder:\nhttps://account.altvr.com/events/1452169154017624405
URL:https://www.meetxr.de/event/virtual-events-potenziale-und-limitationen-von-socialvr/
LOCATION:AltspaceVR\, AltspaceVR
CATEGORIES:talk
ATTACH;FMTTYPE=image/jpeg:https://www.meetxr.de/wp-content/uploads/2020/04/2020-05-15_VirtualEvents_FullHD.jpg
END:VEVENT
END:VCALENDAR