BEGIN:VCALENDAR
VERSION:2.0
PRODID:-//meetXR - ECPv5.8.0//NONSGML v1.0//EN
CALSCALE:GREGORIAN
METHOD:PUBLISH
X-WR-CALNAME:meetXR
X-ORIGINAL-URL:https://www.meetxr.de
X-WR-CALDESC:Veranstaltungen für meetXR
BEGIN:VTIMEZONE
TZID:Europe/Berlin
BEGIN:DAYLIGHT
TZOFFSETFROM:+0100
TZOFFSETTO:+0200
TZNAME:CEST
DTSTART:20230326T010000
END:DAYLIGHT
BEGIN:STANDARD
TZOFFSETFROM:+0200
TZOFFSETTO:+0100
TZNAME:CET
DTSTART:20231029T010000
END:STANDARD
END:VTIMEZONE
BEGIN:VEVENT
DTSTART;TZID=Europe/Berlin:20230504T090000
DTEND;TZID=Europe/Berlin:20230504T200000
DTSTAMP:20260425T184839
CREATED:20230422T132905Z
LAST-MODIFIED:20230422T132905Z
UID:6537-1683190800-1683230400@www.meetxr.de
SUMMARY:Virtual Care Congress
DESCRIPTION:Auf dem 1. Virtual Care Congress werden Forschungsprojekte aus der Pflegewissenschaft und Best Practice Beispiele von digitalen Pflege-Simulationen mittels Virtual Reality (VR)\, Augmented Reality (AR) und aus dem Bereich der Künstlichen Intelligenz (KI) vorgestellt. \nSie können vor Ort im schönen Schwarzwald oder online dabei sein. \nIn der begleitenden Fachausstellung können die Teilnehmenden die verschiedenen Exponate testen und bewerten. Expert:innen aus Wissenschaft und Praxis erläutern Ihre Forschungsergebnisse und Prototypen. \nXR- und KI-Lösungsanbieter demonstrieren aktuelle Schulungs-Anwendungen und Assistenzsysteme. \nEbenso wird live vor Ort der Prototyp der hybriden Lerninsel „CyberCareLab“ begehbar und persönlich erlebbar sein. \nEin weiterer Programmpunkt ist das erste „VR4Care Anwender:innentreffen“ bei dem sich alle Pioniere\, die VR / AR schon in der Pflegeausbildung einsetzen\, vernetzen und ihre Erfahrungen miteinander besprechen. \nBeim Networkinig Dinner bietet sich bei einem Schwarzwälder Menü die Gelegnheit für Austausch und weitere Kontaktpflege (siehe Zusatzartikel zum Tagungsticket). \n>> zur #VCC23 Website mit Speakern & Agenda
URL:https://www.meetxr.de/event/virtual-care-congress/
LOCATION:Stadthalle St. Georgen\, Im Hochwald 10\, St. Georgen\, 78112\, Deutschland
CATEGORIES:talk
ATTACH;FMTTYPE=image/jpeg:https://www.meetxr.de/wp-content/uploads/2023/04/2023-05-04_VirtualCareCongress.jpg
END:VEVENT
END:VCALENDAR