BEGIN:VCALENDAR
VERSION:2.0
PRODID:-//meetXR - ECPv5.8.0//NONSGML v1.0//EN
CALSCALE:GREGORIAN
METHOD:PUBLISH
X-WR-CALNAME:meetXR
X-ORIGINAL-URL:https://www.meetxr.de
X-WR-CALDESC:Veranstaltungen für meetXR
BEGIN:VTIMEZONE
TZID:Europe/Berlin
BEGIN:DAYLIGHT
TZOFFSETFROM:+0100
TZOFFSETTO:+0200
TZNAME:CEST
DTSTART:20210328T010000
END:DAYLIGHT
BEGIN:STANDARD
TZOFFSETFROM:+0200
TZOFFSETTO:+0100
TZNAME:CET
DTSTART:20211031T010000
END:STANDARD
END:VTIMEZONE
BEGIN:VEVENT
DTSTART;TZID=Europe/Berlin:20210909T190000
DTEND;TZID=Europe/Berlin:20210909T203000
DTSTAMP:20260425T213113
CREATED:20210907T123759Z
LAST-MODIFIED:20210907T123759Z
UID:3197-1631214000-1631219400@www.meetxr.de
SUMMARY:Unboxing XR Dev Careers: From Game to VR/AR Enterprise App Developer
DESCRIPTION:Unboxing XR Dev Careers: From Game to VR/AR Enterprise App Developer with OssoVR’s Co-Founder\, CTO and Senior Recruiter (former EA\, Oculus) \nIn our new event series „Unboxing XR Dev Careers“\, we are speaking with the top XR tech leads from the largest XR teams worldwide on stage. \nOsso VR’s Founders have recently raised $27M USD to train surgeons in VR (total funding $43M) and have hired a team of over 110 employees – one of the largest XR dev teams in the industry. \nBoth speakers have previously been working and built teams at large game companies (EA\, THQ\, Cryptic\, Reliq\, Oculus) before founding and joining Osso VR. \nThey will speak about:\n=> Crack the formula of how a game dev/designer transforms into an enterprise (medical) XR dev/designer.\n=> What other tech skills do you need to know\, what should you add to your portfolio\, what are tech stacks should you be focusing on?\n=> Is development for enterprise solutions as exciting as being a game dev?\n=> What are the secrets behind building large XR teams quickly? \nFollowed by an AMA session! \nBios of speakers\nJohn Ptucha\, Senior Recruiter at OssoVR \nI began my recruiting career over 13 years ago at a small MMORPG development house called Cryptic Studios. Equipped with nothing but a Literature degree from UC Santa Cruz and a lifelong love of games\, movies\, special effects\, and art\, I was given the opportunity to hire across all disciplines at the company\, helping to build out the development teams for Star Trek Online\, Neverwinter\, and more. \nI was recruited away from Cryptic to join Oculus right as the Facebook acquisition closed in 2014. I helped grow the company from 200 employees to over 2000 over the course of the first few years while supporting and directly partnering with many industry leaders that I grew up admiring. I also assisted in staffing up Oculus Story Studio and Facebook’s original Social VR team\, working alongside world-class artists\, animators\, and engineers from Pixar\, Dreamworks\, and Lucasfilm. \nAfter 4 years of helping Oculus and Facebook exponentially grow their VR teams\, I joined Slack to help them build out multiple engineering teams across their rapidly growing organization\, including Mobile\, Backend\, and Data. I spent 2 and a half years with Slack before the Salesforce acquisition was announced. I began to casually look into outside opportunities when I was introduced to Osso VR and our CEO. After one conversation with him and a look at the product and platform\, I was incredibly excited by how much we could help people with the power of VR. I joined Osso 6 months ago as their first in-house recruiter\, hiring for roles across all disciplines. \nMatt Newport\, CTO & Co-Founder at OssoVR \nMatt Newport is a veteran game developer who co-founded Osso VR with the idea that engaging\, immersive video game technology could be used for good. As Chief Technology Officer\, Matt leads the strategic direction of development while managing a team of highly-trained engineers. \nPrior to co-founding Osso VR\, Matt had a passion for games and worked for over 15 years at studios both big and small\, including EA and THQ. He has 9 game development credits and was one of Oculus’ early backers for their Kickstarter campaign. \nOriginally hailing from the U.K.\, Matt now resides in beautiful Vancouver\, Canada. He pairs his extensive professional expertise of virtual reality with a love for the outdoors\, and snowboards and hikes often when the weather allows. Besides being fluent in a plethora of programming languages\, Matt also speaks Farsi. \nModeration\nVangelis Lympouridis\, PhD\, founder of EnosisVR and Faculty at the USC Viterbi School of Engineering. \nRoundtable\nRian Luke (Meta Headhunting) \nXR Bootcamp Notes\nYou can already join the discussion today by joining the XR Creators Discord Server. \nAre you curious about learning VR/AR? Check out our Beginner & Advanced-level Master Classes! \nIn case of questions feel free to reach out: hello@xrbootcamp.com
URL:https://www.meetxr.de/event/unboxing-xr-dev-careers-from-game-to-vr-ar-enterprise-app-developer/
LOCATION:Online Event\, online
CATEGORIES:talk
ATTACH;FMTTYPE=image/jpeg:https://www.meetxr.de/wp-content/uploads/2021/09/2021-09-09_UnboxingXRDevCareers.jpg
END:VEVENT
END:VCALENDAR