BEGIN:VCALENDAR
VERSION:2.0
PRODID:-//meetXR - ECPv5.8.0//NONSGML v1.0//EN
CALSCALE:GREGORIAN
METHOD:PUBLISH
X-WR-CALNAME:meetXR
X-ORIGINAL-URL:https://www.meetxr.de
X-WR-CALDESC:Veranstaltungen für meetXR
BEGIN:VTIMEZONE
TZID:Europe/Berlin
BEGIN:DAYLIGHT
TZOFFSETFROM:+0100
TZOFFSETTO:+0200
TZNAME:CEST
DTSTART:20180325T010000
END:DAYLIGHT
BEGIN:STANDARD
TZOFFSETFROM:+0200
TZOFFSETTO:+0100
TZNAME:CET
DTSTART:20181028T010000
END:STANDARD
END:VTIMEZONE
BEGIN:VEVENT
DTSTART;TZID=Europe/Berlin:20180824T093000
DTEND;TZID=Europe/Berlin:20180824T113000
DTSTAMP:20260426T000912
CREATED:20180818T111133Z
LAST-MODIFIED:20180818T111133Z
UID:453-1535103000-1535110200@www.meetxr.de
SUMMARY:UE4 VR Livestream
DESCRIPTION:THIS WEEK WE’LL COVER: \n• Locomotion: \n– Flight (e.g. Google Earth VR\, Lone Echo) \n– 360 (“free” movement\, thumbstick/gamepad movement) \n• VR Development Workflow\n– Iterative/Incremental approach \n• BP to UE-flavoured C++ \nHello UE4/VR Devs! \nIn this regular livestream/livecode\, we’ll cover creating VR projects using the Unreal Engine 4. If you’re inclined to host an episode yourself\, let me know! \nWe’ll also have some post Q&A and planning on our social Meetups and we can discuss airing our VR Hackathons. Any ideas/feedback highliy appreciated! \nThe livestream format allows everyone to participate in the comfort of their own homes with access to their own VR gear\, hence a more regular timing can be done. In turn\, I hope this can further enhance our in-person meetup discussions. \nThis series will be regularly aired at: \nYouTube: https://www.youtube.com/watch?v=PXhpJ5hT36k\nTwitch: https://www.twitch.tv/events/pJ7ZiHFLSTKudF574yRlWQ\nMeetup: https://www.meetup.com/de-DE/UE-VR-AR-DEV-BERLIN/ \nQuestions however will be fielded from the Twitch channel only.
URL:https://www.meetxr.de/event/ue4-vr-livestream/
LOCATION:Twitch Livestream\, Livestream
CATEGORIES:talk
END:VEVENT
END:VCALENDAR