BEGIN:VCALENDAR
VERSION:2.0
PRODID:-//meetXR - ECPv5.8.0//NONSGML v1.0//EN
CALSCALE:GREGORIAN
METHOD:PUBLISH
X-WR-CALNAME:meetXR
X-ORIGINAL-URL:https://www.meetxr.de
X-WR-CALDESC:Veranstaltungen für meetXR
BEGIN:VTIMEZONE
TZID:Europe/Berlin
BEGIN:DAYLIGHT
TZOFFSETFROM:+0100
TZOFFSETTO:+0200
TZNAME:CEST
DTSTART:20180325T010000
END:DAYLIGHT
BEGIN:STANDARD
TZOFFSETFROM:+0200
TZOFFSETTO:+0100
TZNAME:CET
DTSTART:20181028T010000
END:STANDARD
END:VTIMEZONE
BEGIN:VEVENT
DTSTART;TZID=Europe/Berlin:20180901T103000
DTEND;TZID=Europe/Berlin:20180901T130000
DTSTAMP:20260425T224431
CREATED:20180816T110502Z
LAST-MODIFIED:20180816T110946Z
UID:156-1535797800-1535806800@www.meetxr.de
SUMMARY:Tower Tag Tournament Berlin Open
DESCRIPTION:Wir veranstalten jeden ersten Samstag im Monat ein Tower Tag Tournament in der VR-Lounge in den Potsdamer Platz Arkaden in Berlin. \nWerde Teil der neuen Tower Tag League und baue eSportsVR gemeinsam mit uns in der Hauptstadtregion auf! \nFür Tower Tag Spieler bieten wir mit 10\,- Euro pro 1/2 Stunde derzeit stark vergünstigte Trainingszeiten an: \n– Montag – Freitag 10:00 – 14:00 Uhr\n– Montag – Donnerstag 19:00 – 21:00\n– Samstag 10:00 – 13:00 Uhr\n– nach Vereinbarung \n2er-Teams\, 10\,- Euro Einsatz p.P.\, mindestens 3 Spiele. \nIhr könnt euch jederzeit telefonisch (030/25935222) oder per Mail (towertag@vr-lounge.de) anmelden. Wir freuen uns auf euch!
URL:https://www.meetxr.de/event/tower-tag-tournament-berlin-open/
LOCATION:VR Lounge\, Alte Potsdamer Str. 7\, Berlin\, 10785\, Deutschland
CATEGORIES:play
ATTACH;FMTTYPE=image/jpeg:https://www.meetxr.de/wp-content/uploads/2018/08/VR_Lounge_TowerTag.jpg
ORGANIZER;CN="VR%20Lounge":MAILTO:info@vr-lounge.de
END:VEVENT
END:VCALENDAR