BEGIN:VCALENDAR
VERSION:2.0
PRODID:-//meetXR - ECPv5.8.0//NONSGML v1.0//EN
CALSCALE:GREGORIAN
METHOD:PUBLISH
X-WR-CALNAME:meetXR
X-ORIGINAL-URL:https://www.meetxr.de
X-WR-CALDESC:Veranstaltungen für meetXR
BEGIN:VTIMEZONE
TZID:Europe/Berlin
BEGIN:DAYLIGHT
TZOFFSETFROM:+0100
TZOFFSETTO:+0200
TZNAME:CEST
DTSTART:20200329T010000
END:DAYLIGHT
BEGIN:STANDARD
TZOFFSETFROM:+0200
TZOFFSETTO:+0100
TZNAME:CET
DTSTART:20201025T010000
END:STANDARD
END:VTIMEZONE
BEGIN:VEVENT
DTSTART;TZID=Europe/Berlin:20200125T140000
DTEND;TZID=Europe/Berlin:20200125T170000
DTSTAMP:20260425T200535
CREATED:20200127T000925Z
LAST-MODIFIED:20200127T000925Z
UID:2301-1579960800-1579971600@www.meetxr.de
SUMMARY:Tower Tag DreamHack Masters
DESCRIPTION:Im Rahmen der Indie Booth Arena werden wir Tower Tag auf der diesjährigen DreamHack in Leipzig zeigen und am 25.01 ab 14 Uhr auch ein Turnier veranstalten\, bei dem HTC und weitere Partner uns mit Preisen unterstützen. \nTower Tag DreamHack Masters\nInsgesamt können 16 Teams am Turnier teilnehmen und die Paarungen werden zufällig gezogen. Gespielt wird Single Elimination im Tower Tag-Modus “Elimination”. Pro Team werden zwei Spieler/-Innen benötigt. \nHier könnt ihr euch und euer Team verbindlich für das Turnier registrieren. \nFolgende Preise warten auf euch:\n1.Platz: 1x HTC Vive Cosmos\n2. Platz: Merchandise von Rocket Beans TV \nDie DreamHack Leipzig ist ein dreitägiges Gaming Festival mit professionellen eSports-Turnieren und neuester Hard- und Software auf der DreamExpo und im DreamStore. Das Event findet jedes Jahr an diversen Standorten statt und seit 2016 auch in Leipzig.
URL:https://www.meetxr.de/event/tower-tag-dreamhack-masters/
LOCATION:Leipziger Messe\, Messe-Allee 1\, Leipzig\, 04356\, Deutschland
CATEGORIES:play
ATTACH;FMTTYPE=image/jpeg:https://www.meetxr.de/wp-content/uploads/2020/01/2020-01-26_TowerTagDreamhack.jpg
END:VEVENT
END:VCALENDAR