BEGIN:VCALENDAR
VERSION:2.0
PRODID:-//meetXR - ECPv5.8.0//NONSGML v1.0//EN
CALSCALE:GREGORIAN
METHOD:PUBLISH
X-WR-CALNAME:meetXR
X-ORIGINAL-URL:https://www.meetxr.de
X-WR-CALDESC:Veranstaltungen für meetXR
BEGIN:VTIMEZONE
TZID:Europe/Berlin
BEGIN:DAYLIGHT
TZOFFSETFROM:+0100
TZOFFSETTO:+0200
TZNAME:CEST
DTSTART:20220327T010000
END:DAYLIGHT
BEGIN:STANDARD
TZOFFSETFROM:+0200
TZOFFSETTO:+0100
TZNAME:CET
DTSTART:20221030T010000
END:STANDARD
END:VTIMEZONE
BEGIN:VEVENT
DTSTART;TZID=Europe/Berlin:20221005T183000
DTEND;TZID=Europe/Berlin:20221005T203000
DTSTAMP:20260425T160453
CREATED:20220919T154345Z
LAST-MODIFIED:20220919T154345Z
UID:5156-1664994600-1665001800@www.meetxr.de
SUMMARY:Telepresence Support bei autonomen Systemen
DESCRIPTION:Wir haben ein Panel zusammen mit homePORT\, ARIC und der IKS für euch geplant:\nAm Mittwoch\, den 5.10. ab 18:30 Uhr sprechen wir über Telepresence Support bei autonomen Systemen im homePORT Hamburg. \nWir widmen uns dem Thema von selbstständig arbeitenden Systemen und sprechen über den aktuellen Stand der Dinge. Zusammen mit Wissenschaftler:innen und Projektbeteiligten geht es um die Möglichkeiten von autonomen Systemen\, wo sie jetzt schon eingesetzt werden und welche Schwierigkeiten diese mit sich bringen.\nAutonome Roboter finden bereits Einsatz bei Inspektionen\, Materialprüfungen und Pizzalieferungen. Doch wie werden autonome Systeme wahrgenommen\, wenn es auch um Personentransporte mit Drohnen und Bussen geht? Wie können autonom arbeitende Systeme durch Telepresence unterstützt werden? \nWie immer freuen wir uns\, wenn ihr euch hier direkt auf LinkedIn oder über Meetup anmeldet!
URL:https://www.meetxr.de/event/telepresence-support-bei-autonomen-systemen/
LOCATION:homePORT Hamburg\, Am Elbtunnel 6\, Hamburg\, Deutschland
CATEGORIES:talk
ATTACH;FMTTYPE=image/jpeg:https://www.meetxr.de/wp-content/uploads/2022/09/2022-10-05_TelepresenceSupport_FullHD.jpg
END:VEVENT
END:VCALENDAR