BEGIN:VCALENDAR
VERSION:2.0
PRODID:-//meetXR - ECPv5.8.0//NONSGML v1.0//EN
CALSCALE:GREGORIAN
METHOD:PUBLISH
X-WR-CALNAME:meetXR
X-ORIGINAL-URL:https://www.meetxr.de
X-WR-CALDESC:Veranstaltungen für meetXR
BEGIN:VTIMEZONE
TZID:Europe/Berlin
BEGIN:DAYLIGHT
TZOFFSETFROM:+0100
TZOFFSETTO:+0200
TZNAME:CEST
DTSTART:20210328T010000
END:DAYLIGHT
BEGIN:STANDARD
TZOFFSETFROM:+0200
TZOFFSETTO:+0100
TZNAME:CET
DTSTART:20211031T010000
END:STANDARD
END:VTIMEZONE
BEGIN:VEVENT
DTSTART;TZID=Europe/Berlin:20210505T080000
DTEND;TZID=Europe/Berlin:20210505T170000
DTSTAMP:20260425T184846
CREATED:20210423T082314Z
LAST-MODIFIED:20210423T082314Z
UID:2964-1620201600-1620234000@www.meetxr.de
SUMMARY:Tech for Good - Vienna UP Workshop
DESCRIPTION:How can technology be used to find sustainable\, ethical\, and creative solutions in order to address and solve social issues of our time? \nThere is currently a vibrant movement of social-tech entrepreneurs that use emerging technologies such as Extended Reality\, Artificial Intelligence\, and Robotics to tackle social problems. This workshop will bring together people and companies driving the use of technology and the digital world to enhance people’s lives. \nDATE & TIME\nMay 4th (May the 4th be with you!)\n10:00-14:00h \nPURPOSE\nThe goal is to discuss how emerging technologies could improve our society\, for instance in the areas of health and well-being\, as well as support the work of charity organizations and companies working on projects for social good. \nOUTCOME\nA key outcome of this workshop is to connect people and to define topics such as ethics and sustainability in relation to emerging technologies. The discussions of this workshop are meant to become the foundation for future projects and ethical guidelines to improve corporate responsibility and digital solutions with social impact. \nFORMAT\nZoom + Mozilla Hubs (Hubs link TBA) \nMODERATORS\n– Vera Borrmann (Philosopher & Cultural Scientist)\n– Christian Stiegler (Guiding Light) \nORGANIZERS\n– Guiding Light – Center for Ethics and Sustainable Technologies\n– XRVienna \nPOWERED BY\nvrisch \nLINKS\nwww.guidinglight.eu\nwww.miyomi.at\nwww.viennaup.com\nwww.vrisch.com \nBIOS\n*Christian Stiegler*\nChristian Stiegler is the Director of Guiding Light – Center for Ethics and Sustainable Technologies\, and an internationally renowned expert on immersive media and emerging technologies. His work is at the forefront of the global “Tech for Good” movement to create a responsible\, ethical\, and sustainable technological future. Upcoming publications include „The 360° Gaze: Immersions in Media\, Society\, and Culture“ (MIT Press\, 2021). \n*Vera Borrmann*\nVera is a philosopher\, embodiment researcher & practicioner\, speaker and trainer based in Vienna. Her main interest and research quest is the body and individual experienced perception.\nShe explored various body theory approaches and has been working on topics like Human Enhancement or Body Modification at the Institute for Technology Assessment and Systemsanalysis (KIT) in Karlsruhe and the Institute for Technology Assessment (OEAW) in Vienna.\n2018\, she developed and created her own approach on embodiment & perception\, founded the platform MIYOMI and is a teacher\, speaker and facilitator in various workshop\, training and panel contexts. \nThis workshop is part of the ViennaUP’21 event. Places are limited\, so hurry up and RSVP soon! Can’t wait to see you there.
URL:https://www.meetxr.de/event/tech-for-good-vienna-up-workshop/
LOCATION:Online Event\, online
CATEGORIES:hack,talk
ATTACH;FMTTYPE=image/png:https://www.meetxr.de/wp-content/uploads/2021/04/2021-05-05_TechForGood.png
END:VEVENT
END:VCALENDAR