BEGIN:VCALENDAR
VERSION:2.0
PRODID:-//meetXR - ECPv5.8.0//NONSGML v1.0//EN
CALSCALE:GREGORIAN
METHOD:PUBLISH
X-WR-CALNAME:meetXR
X-ORIGINAL-URL:https://www.meetxr.de
X-WR-CALDESC:Veranstaltungen für meetXR
BEGIN:VTIMEZONE
TZID:Europe/Berlin
BEGIN:DAYLIGHT
TZOFFSETFROM:+0100
TZOFFSETTO:+0200
TZNAME:CEST
DTSTART:20230326T010000
END:DAYLIGHT
BEGIN:STANDARD
TZOFFSETFROM:+0200
TZOFFSETTO:+0100
TZNAME:CET
DTSTART:20231029T010000
END:STANDARD
END:VTIMEZONE
BEGIN:VEVENT
DTSTART;TZID=Europe/Berlin:20230822T190000
DTEND;TZID=Europe/Berlin:20230822T210000
DTSTAMP:20260425T172949
CREATED:20230417T134454Z
LAST-MODIFIED:20230811T084640Z
UID:9348-1692730800-1692738000@www.meetxr.de
SUMMARY:talks.globalxr – August
DESCRIPTION:The Global XR Community is a free community around Extended Reality and organizes live events on YouTube and in the metaverse. We have monthly live sessions on virtual\, augmented and mixed reality featuring new and seasoned speakers from around the world.
URL:https://www.meetxr.de/event/talks-globalxr-august/
LOCATION:Online Event\, online
CATEGORIES:talk
ATTACH;FMTTYPE=image/webp:https://www.meetxr.de/wp-content/uploads/2023/04/2023-08-22_GlobalXRTalks.webp
END:VEVENT
END:VCALENDAR