BEGIN:VCALENDAR
VERSION:2.0
PRODID:-//meetXR - ECPv5.8.0//NONSGML v1.0//EN
CALSCALE:GREGORIAN
METHOD:PUBLISH
X-WR-CALNAME:meetXR
X-ORIGINAL-URL:https://www.meetxr.de
X-WR-CALDESC:Veranstaltungen für meetXR
BEGIN:VTIMEZONE
TZID:Europe/Berlin
BEGIN:DAYLIGHT
TZOFFSETFROM:+0100
TZOFFSETTO:+0200
TZNAME:CEST
DTSTART:20190331T010000
END:DAYLIGHT
BEGIN:STANDARD
TZOFFSETFROM:+0200
TZOFFSETTO:+0100
TZNAME:CET
DTSTART:20191027T010000
END:STANDARD
END:VTIMEZONE
BEGIN:VEVENT
DTSTART;TZID=Europe/Berlin:20191211T100000
DTEND;TZID=Europe/Berlin:20191211T180000
DTSTAMP:20260425T223907
CREATED:20191111T163351Z
LAST-MODIFIED:20191111T163351Z
UID:2084-1576058400-1576087200@www.meetxr.de
SUMMARY:Tag der offenen Tür: Hands on HMD
DESCRIPTION:Bereits im September letzten Jahres hat das Marktforschungsunternehmens Gartner Virtual Reality aus dem Hype-Zyklus herausgenommen\, da sich die Technologie bereits einem ausgereiften Zustand nähert und somit aus der Klassifizierung für neue Technologien herausfällt. Aufgrund der wachsenden Akzeptanz in der Unternehmenskultur gegenüber dieser Technologie\, wird Virtual Reality aktuell in vielen Branchen und an Anwendungsgebieten verwendet\, um bestehende Prozesse zu optimieren und Kosten zu verringern. Das VDC Fellbach bietet Ihnen die Möglichkeit\, im Rahmen des Tag der offenen Tür am Markt etablierte und potentielle neue HMDs in unseren Räumlichkeiten zu testen und berät Sie gerne zu möglichen Einsatzgebieten in Ihrem Unternehmen. \nDas Unternehmen Vality wird das erste HMD aus deutscher Entwicklung vorstellen. \nWir freuen uns auf Ihren Besuch und einen guten Austausch. \nBitte melden Sie sich hier kostenlos an \nFolgende HMDs werden wir vor Ort haben: \n\nHTC Vive Pro Eye\nHP Reverb\nOculus Rift S\nOculus Quest\nPimax 8K (erste Version)\nPico G2 4K / Pico G2 Pro / Pico G2\nVality\nVarjo VR-1
URL:https://www.meetxr.de/event/tag-der-offenen-tuer-hands-on-hmd/
LOCATION:Virtual Dimension Center Fellbach\, Auberlenstraße 13\, Fellbach\, 70736\, Deutschland
CATEGORIES:play
ATTACH;FMTTYPE=image/jpeg:https://www.meetxr.de/wp-content/uploads/2019/11/2019-12-11_TagderoffenenTuerVDC.jpg
ORGANIZER;CN="VDC%20%E2%80%93%20Virtual%20Dimension%20Center":MAILTO:info@vdc-fellbach.de
END:VEVENT
END:VCALENDAR