BEGIN:VCALENDAR
VERSION:2.0
PRODID:-//meetXR - ECPv5.8.0//NONSGML v1.0//EN
CALSCALE:GREGORIAN
METHOD:PUBLISH
X-WR-CALNAME:meetXR
X-ORIGINAL-URL:https://www.meetxr.de
X-WR-CALDESC:Veranstaltungen für meetXR
BEGIN:VTIMEZONE
TZID:Europe/Berlin
BEGIN:DAYLIGHT
TZOFFSETFROM:+0100
TZOFFSETTO:+0200
TZNAME:CEST
DTSTART:20210328T010000
END:DAYLIGHT
BEGIN:STANDARD
TZOFFSETFROM:+0200
TZOFFSETTO:+0100
TZNAME:CET
DTSTART:20211031T010000
END:STANDARD
END:VTIMEZONE
BEGIN:VEVENT
DTSTART;TZID=Europe/Berlin:20210128T180000
DTEND;TZID=Europe/Berlin:20210128T210000
DTSTAMP:20260425T213012
CREATED:20210111T140500Z
LAST-MODIFIED:20210111T140500Z
UID:2795-1611856800-1611867600@www.meetxr.de
SUMMARY:Status Quest – Wie geht's weiter mit Oculus und dem Datenschutz
DESCRIPTION:XR Bavaria ist zurück in 2021 mit frischen XR Meetups… \nWie geht es weiter mit Oculus und dem Datenschutz?\nDas Bundeskartellamt hat am 10.12.2020 ein Missbrauchsverfahren gegen Facebook eingeleitet hat\, um die Verknüpfung von Oculus Virtual-Reality-Produkten mit dem sozialen Netzwerk und der Facebook-Plattform zu überprüfen. Facebook reagierte bereits und hat den Verkauf sämtlicher Oculus Devices in Deutschland eingestellt. Auslöser war Facebook’s umstrittene Entscheidung\, dass alle ihre VR Produkte zwingend an reale Facebook Accounts geknüpft werden müssen.\nWas bedeutet das für B2B und den Einsatz von Oculus Devices.\nFacebook hat es für XR B2B Projekte auch schon im Vorfeld der letzten Ereignisse zunehmend schwerer gemacht Oculus Devices legal im Businessumfeld einzusetzen. Dahinter steckt Kalkül\, aber von einem „Plan“ kann man wohl nicht sprechen.\nWie gehen wir nun damit um? Was haben wir im Business für Alternativen zu Facebook und Oculus? Wie ist die rechtliche Situation bei Einsatz von Oculus Geräten in Deutschland?\nÜber diese Themen wollen wir in einem Expertenpanel am 28.1. diskutieren.\nMit dabei sind Oliver Wöhler von Pico VR https://www.pico-interactive.com/\nTom Neubert von Schenker Technologies. https://www.schenker-tech.de/ \nWir freuen uns auf euch! \nhttps://us02web.zoom.us/j/82806500914?pwd=YkNvMUZPS1JUdXhWUCtmWGd1U2xVUT09
URL:https://www.meetxr.de/event/status-quest-wie-gehts-weiter-mit-oculus-und-dem-datenschutz/
LOCATION:Zoom Meeting\, Zoom
CATEGORIES:talk
ATTACH;FMTTYPE=image/jpeg:https://www.meetxr.de/wp-content/uploads/2021/01/2021-01-28-StatusQuest.jpeg
END:VEVENT
END:VCALENDAR