BEGIN:VCALENDAR
VERSION:2.0
PRODID:-//meetXR - ECPv5.8.0//NONSGML v1.0//EN
CALSCALE:GREGORIAN
METHOD:PUBLISH
X-WR-CALNAME:meetXR
X-ORIGINAL-URL:https://www.meetxr.de
X-WR-CALDESC:Veranstaltungen für meetXR
BEGIN:VTIMEZONE
TZID:Europe/Berlin
BEGIN:DAYLIGHT
TZOFFSETFROM:+0100
TZOFFSETTO:+0200
TZNAME:CEST
DTSTART:20190331T010000
END:DAYLIGHT
BEGIN:STANDARD
TZOFFSETFROM:+0200
TZOFFSETTO:+0100
TZNAME:CET
DTSTART:20191027T010000
END:STANDARD
END:VTIMEZONE
BEGIN:VEVENT
DTSTART;TZID=Europe/Berlin:20190426T180000
DTEND;TZID=Europe/Berlin:20190428T190000
DTSTAMP:20260426T001206
CREATED:20190510T144436Z
LAST-MODIFIED:20190510T144436Z
UID:1517-1556301600-1556478000@www.meetxr.de
SUMMARY:So Far\, Still So Close | Yu Hong & Nikita Shalenny
DESCRIPTION:‚SO FAR\, STILL SO CLOSE‘ – Yu Hong & Nikita Shalenny\nOPENING RECEPTION: April 26th 2019\, 6-9pm;\nEXHIBITION: April 26th – April 28th 2019\, 1am-7pm;\nVENUE: Kopernikusstrasse\, 14 10245 Berlin;\nFREE ADMISSION \nSynthesis Gallery is pleased to premiere two VR artworks by Chinese artist Yu Hong and Ukrainian artist Nikita Shalenny\, both produced by Khora Contemporary\, during Gallery Weekend 2019. \n‘So far\, still so close’ is curated by Tina Sauerlaender (Radiance VR) and George Vitale (Synthesis Gallery) and is the first collaboration between Khora Contemporary (Copenhagen\, Denmark)\, Radiance VR and Synthesis Gallery (Berlin\, Germany). \nBoth artists\, Yu Hong and Nikita Shalenny\, in their artistic practice deal with the altering passage of time. In Hong’s ‘She’s Already Gone’\, the narrative follows differing timelines as the life and aging of the protagonist moves forward while history goes backwards. Nikita Shalenny’s work is mentally extended to infinity. The bridge and the horizon are set between two places. The horizon disappears within space\, yet the strong conviction that there is a better world beyond the horizon lives on. Both artists create drawings and paintings by hand that are later transferred into the virtual space to become animated artworks. The visible brush strokes add a layer of physicality to the virtual world. \nYU HONG\, SHE’S ALREADY GONE\nVirtual Reality artwork\, 2017\nCourtesy of Khora Contemporary and Yu Hong \nThe sun crawls across the floor of a bedroom belonging to a young Chinese girl\, as the chaos of the Cultural Revolution rips through the streets outside. Locked inside the room\, she opens the window\, her only way of satisfying her curiosity. As she absorbs herself in the wonder of blowing soap bubbles\, the slight noises of the demonstrations flood into the tiny space. She seems oblivious to the viewer\, who came into the room through the keyhole and is with her in this instant for only so long. This bubble is ever so transient. It will be gone in a second. \nThe scene is one of four in Yu Hong’s Virtual Reality work\, placing the viewer in the middle of four moments\, traveling through the life of a female character from her birth to her old age. The narrative follows differing timelines as the life and aging of the protagonist moves forward while history goes backwards. Whereas her birth takes place in a modern hospital\, the subsequent scenes take her and the viewer further and further back in time\, until reaching a shamanistic ritual in the earliest known period in Chinese history. \nThrough Chinese history the freedom and opportunities available to women have varied\, and in the history of Chinese art women are often depicted occupied with everyday activities as subject to a male point of view. For long the female perspective was not a tolerable mode of creation. Yu Hong’s work acknowledges the female in all stages of life\, exploring the relationship between the individual and the rapid social change taking place in China. \nNIKITA SHALENNY\, THE BRIDGE\nVirtual Reality artwork\, 2017\nCourtesy of Khora Contemporary and Nikita Shalenny \nIn Shalenny’s Virtual Reality work the viewer goes beyond the horizon on a compressed forty thousand kilometers journey around the world. A game of chance\, the journey is the outcome of a line drawn from a bridge and further across the world\, taking place in the dead of night\, where fuzzy silhouettes of people tear along through desolate landscapes\, fleeing into gray blizzards and shadowy forests. Based on watercolors by the artist\, one setting replaces the other as the ghostlike figures cross birch forests\, oil fields\, abandoned churches and oceans in a limitless universe. \nMentally extended to infinity\, the bridge like the horizon is set between two places\, the scene of arrival and the point of departure. All horizons disappear in space\, and yet the strong conviction that there is a better world beyond the horizon lives on. \nSeen in the light of the current global refugee crisis the infinite bridge seems like a symptom of our times\, or\, a cure for an escape attempt. The construction of a bridge allows one to access the other shore with ease\, to solve the gap between longings and goals and dreams\, which else remain distant. \n  \nSYNTHESIS GALLERY is an immersive blend of technology and art displayed under one roof\, showcasing cutting-edge experiences by new wave artists and visionaries through virtual reality. Founded in New York in October 2017 by George Vitale\, the gallery opened his doors to the public in April 2018 in Berlin. Synthesis’ shows have so far been selected to be part of Berlin Art Week and participated in art festivals such as Transmediale/Vorspiel. Pieces are displayed through different media. Tangible and traditional art forms intermingle with Oculus and Hive headsets. Dedicated to exhibiting internationally renowned\, well-established artists along emerging ones\, since its inception\, Synthesis has garnered considerable attention in the art scene.
URL:https://www.meetxr.de/event/so-far-still-so-close-yu-hong-nikita-shalenny/
LOCATION:Synthesis Gallery\, Reuterstrasse 62\, Berlin\, 12047\, Deutschland
CATEGORIES:play
ATTACH;FMTTYPE=image/jpeg:https://www.meetxr.de/wp-content/uploads/2019/05/2019-04-26_SynthesisGallery.jpg
END:VEVENT
END:VCALENDAR