BEGIN:VCALENDAR
VERSION:2.0
PRODID:-//meetXR - ECPv5.8.0//NONSGML v1.0//EN
CALSCALE:GREGORIAN
METHOD:PUBLISH
X-WR-CALNAME:meetXR
X-ORIGINAL-URL:https://www.meetxr.de
X-WR-CALDESC:Veranstaltungen für meetXR
BEGIN:VTIMEZONE
TZID:Europe/Berlin
BEGIN:DAYLIGHT
TZOFFSETFROM:+0100
TZOFFSETTO:+0200
TZNAME:CEST
DTSTART:20220327T010000
END:DAYLIGHT
BEGIN:STANDARD
TZOFFSETFROM:+0200
TZOFFSETTO:+0100
TZNAME:CET
DTSTART:20221030T010000
END:STANDARD
END:VTIMEZONE
BEGIN:VEVENT
DTSTART;TZID=Europe/Berlin:20220126T160000
DTEND;TZID=Europe/Berlin:20220126T180000
DTSTAMP:20260425T200222
CREATED:20211130T152118Z
LAST-MODIFIED:20211130T152140Z
UID:3334-1643212800-1643220000@www.meetxr.de
SUMMARY:Sherpa-Gruppe Metaverse
DESCRIPTION:Die neue Sherpa-Gruppe des VDC Fellbach ergründet mit den teilnehmenden Unternehmen Chancen und Risiken im Metaverse. Der Kick-Off findet am 26. Januar 2022 statt. \nDas Metaverse ist in aller Munde. Zweifellos wird die digitale Präsenz von Unternehmen zukünftig an Bedeutung zunehmen. Das Metaverse eröffnet Unternehmen dabei neue Chancen und Geschäftsmodelle\, hat aber auch einige Fallstricke parat. Themen wie Recht & Datenschutz weisen Besonderheiten in der virtuellen Welt auf. \nIn der neuen Arbeitsgruppe des VDCs werden diese Themen sowie der Stand der Technik rund um das Metaverse diskutiert und analysiert. Die Arbeitsgruppe richtet sich im speziellen an KMU die ihre Möglichkeiten und Risiken im Metaverse im Austausch mit anderen eruieren möchten\, für die praktische Umsetzung im eigenen Betrieb. \nDie Sherpa-Gruppen werden im Rahmen der Initiative „Digitallotse Wirtschaft 4.0“ durch das Ministerium für Wirtschaft\, Arbeit und Wohnungsbau Baden-Württemberg gefördert.
URL:https://www.meetxr.de/event/sherpa-gruppe-metaverse/
LOCATION:Online Event\, online
CATEGORIES:talk
ATTACH;FMTTYPE=image/jpeg:https://www.meetxr.de/wp-content/uploads/2021/11/2022-01-26_VDC.jpg
ORGANIZER;CN="VDC%20%E2%80%93%20Virtual%20Dimension%20Center":MAILTO:info@vdc-fellbach.de
END:VEVENT
END:VCALENDAR