BEGIN:VCALENDAR
VERSION:2.0
PRODID:-//meetXR - ECPv5.8.0//NONSGML v1.0//EN
CALSCALE:GREGORIAN
METHOD:PUBLISH
X-WR-CALNAME:meetXR
X-ORIGINAL-URL:https://www.meetxr.de
X-WR-CALDESC:Veranstaltungen für meetXR
BEGIN:VTIMEZONE
TZID:Europe/Berlin
BEGIN:DAYLIGHT
TZOFFSETFROM:+0100
TZOFFSETTO:+0200
TZNAME:CEST
DTSTART:20210328T010000
END:DAYLIGHT
BEGIN:STANDARD
TZOFFSETFROM:+0200
TZOFFSETTO:+0100
TZNAME:CET
DTSTART:20211031T010000
END:STANDARD
END:VTIMEZONE
BEGIN:VEVENT
DTSTART;VALUE=DATE:20210414
DTEND;VALUE=DATE:20210418
DTSTAMP:20260425T183124
CREATED:20210305T132539Z
LAST-MODIFIED:20210305T132539Z
UID:2846-1618369200-1618628399@www.meetxr.de
SUMMARY:Recto VRso
DESCRIPTION:Recto VRso\nRecto VRso is an international exhibition of art and virtual and mixed reality held during the Laval Virtual event. Founded by artist-researcher Judith Guez\, Recto VRso aims to invite artworks of artists\, researchers\, students and explorers who question the virtual reality medium\, directly or indirectly\, so as to bring out new artistic forms. \n#1 Virtual: Emergence\nFrom 14th to 16th April 2021\, an event in the Laval Virtual World offers a virtual conference programme\, debates\, meetings and discussions about issues of creation and diffusion today\, gathering players from digital and comtemporary artistic fields\, as well as an artistic celebration appealing to the public with a selection of works of online art. \n#2 Physical: Restitution\nFrom 7th to 11th July 2021\, in parallel of the VR/AR event Laval Virtual\, Recto VRso occupies the Musée-Ecole de la Perrine in the town of Laval for a restitution of about ten artworks selected after the annual call for projects and projects of invited artists. These creations will also be exhibited in the Virtual Gallery of Recto VRso 2021\, an imaginary space with virtual codes\, reversing the usual models of access to art.
URL:https://www.meetxr.de/event/recto-vrso/
LOCATION:Online Event\, online
CATEGORIES:talk
ATTACH;FMTTYPE=image/jpeg:https://www.meetxr.de/wp-content/uploads/2021/03/2021-04-16_RectoVRso.jpeg
END:VEVENT
END:VCALENDAR