BEGIN:VCALENDAR
VERSION:2.0
PRODID:-//meetXR - ECPv5.8.0//NONSGML v1.0//EN
CALSCALE:GREGORIAN
METHOD:PUBLISH
X-WR-CALNAME:meetXR
X-ORIGINAL-URL:https://www.meetxr.de
X-WR-CALDESC:Veranstaltungen für meetXR
BEGIN:VTIMEZONE
TZID:Europe/Berlin
BEGIN:DAYLIGHT
TZOFFSETFROM:+0100
TZOFFSETTO:+0200
TZNAME:CEST
DTSTART:20220327T010000
END:DAYLIGHT
BEGIN:STANDARD
TZOFFSETFROM:+0200
TZOFFSETTO:+0100
TZNAME:CET
DTSTART:20221030T010000
END:STANDARD
END:VTIMEZONE
BEGIN:VEVENT
DTSTART;TZID=Europe/Berlin:20220602T140000
DTEND;TZID=Europe/Berlin:20220602T200000
DTSTAMP:20260426T013341
CREATED:20220531T172608Z
LAST-MODIFIED:20220531T172608Z
UID:4863-1654178400-1654200000@www.meetxr.de
SUMMARY:Re-Opening des Discovery Dock
DESCRIPTION:Hiermit laden wir euch zum Re-Opening des Discovery Docks in Hamburg ein. \nEntdeckt Hamburg aus bisher ungesehenen Perspektiven mit sechs Virtual Reality Experiences und vielen anderen Attraktionen. \nAtemberaubend realistisch\, faszinierend informativ und mittendrin – im Discovery Dock fühlst Du Hamburgs Geschichten\, Orte und Vielfalt hautnah und lebensecht. \nEntdeckt die Live-Kultur-Szene mit NOYS VR\, die verborgenen Seiten des Hafens und Hamburg aus der Vogel-Perspektive. \nErlebe als Reporter:in die dramatischen Ereignisse um den G20-Gipfel 2017 im Schanzenviertel mit – ganz unmittelbar! \nBesucher:innen sind hier immer mitten im Geschehen und erfahren Hamburg interaktiv und aufregend realistisch – dank modernster Virtual-Reality-Technologie! \nFür Snacks und Drinks ist gesorgt. \nDas Discovery Dock und Bizzlogic freuen sich auf euch! \nLinks zur Anmeldung\n14:00 – 16:00 Uhr: https://www.eventbrite.com/e/discovery-dock-re-opening-tickets-347015301107\n18:00 – 20:00 Uhr: https://www.eventbrite.com/e/discovery-dock-re-opening-tickets-347016845727
URL:https://www.meetxr.de/event/re-opening-des-discovery-dock/
LOCATION:Discovery Dock\, Am Kaiserkai 60\, Hamburg\, 20457\, Deutschland
CATEGORIES:play
ATTACH;FMTTYPE=image/jpeg:https://www.meetxr.de/wp-content/uploads/2022/05/2022-06-02_DiscoveryDock.jpg
END:VEVENT
END:VCALENDAR