BEGIN:VCALENDAR
VERSION:2.0
PRODID:-//meetXR - ECPv5.8.0//NONSGML v1.0//EN
CALSCALE:GREGORIAN
METHOD:PUBLISH
X-WR-CALNAME:meetXR
X-ORIGINAL-URL:https://www.meetxr.de
X-WR-CALDESC:Veranstaltungen für meetXR
BEGIN:VTIMEZONE
TZID:Europe/Berlin
BEGIN:DAYLIGHT
TZOFFSETFROM:+0100
TZOFFSETTO:+0200
TZNAME:CEST
DTSTART:20210328T010000
END:DAYLIGHT
BEGIN:STANDARD
TZOFFSETFROM:+0200
TZOFFSETTO:+0100
TZNAME:CET
DTSTART:20211031T010000
END:STANDARD
END:VTIMEZONE
BEGIN:VEVENT
DTSTART;TZID=Europe/Berlin:20210203T190000
DTEND;TZID=Europe/Berlin:20210203T210000
DTSTAMP:20260425T201827
CREATED:20210111T135158Z
LAST-MODIFIED:20210111T135158Z
UID:2781-1612378800-1612386000@www.meetxr.de
SUMMARY:Potenziale von VR im Sport – Gute Vorsätze mit VR in die Realität umsetzen
DESCRIPTION:Ein frohes neues Jahr auch nochmal von uns! Ihr kennt das: mit jedem Jahreswechsel fassen wir immer wieder gute Vorsätze für das neue Jahr. Und auch 2021 steht (mehr) Sport treiben wieder mit ganz oben. Kann Virtual Reality vielleicht dabei helfen\, diesen Vorsatz umzusetzen?\nAm 3. Februar um 19 Uhr treffen wir uns zu unserem nächsten nextReality-Meetup und auch dieses Jahr erstmal weiterhin virtuell in AltspaceVR. Dieses Mal möchten wir mit euch und Expert:innen über die Potenziale von VR im Sport diskutieren. Dazu werden wir verschiedene Perspektiven von Profi-Sport über Anwendungen für Home-Workouts bis hin zu der Sicht der Wissenschaft auf das Thema beleuchten. Mehr Informationen zu unseren Gästen folgen bald. Also: save the date\, wir freuen uns auf euch! \n_____________________\nDie Teilnahme ist ganz einfach! Hier sind die wichtigsten Schritte: \nZunächst benötigt ihr einen AltspaceVR Account. Falls ihr noch keinen habt\, könnt ihr den hier einrichten:\nhttps://account.altvr.com/users/sign_up \nDas wunderbare an AltspaceVR ist\, dass es für alle gängigen VR-Systeme zur Verfügung steht. Die jeweiligen Clients findet ihr hier:\nhttps://altvr.com/get-altspacevr/ \nNoch schöner: AltspaceVR setzt nicht zwingend eine VR-Brille voraus\, sondern kann auch am Bildschirm erlebt werden. Den 2D-Clienten für Windows findet ihr hier:\nhttps://account.altvr.com/downloads \nAlles\, was ihr dann noch tun müsst\, ist den Link zu unseren Event zu folgen und auf „Interested“ zu klicken. So findet ihr das Event in VR oder im 2D-Modus schnell wieder:\nhttps://account.altvr.com/events/1647883787834491738
URL:https://www.meetxr.de/event/potenziale-von-vr-im-sport-gute-vorsaetze-mit-vr-in-die-realitaet-umsetzen/
LOCATION:AltspaceVR\, AltspaceVR
CATEGORIES:talk
ATTACH;FMTTYPE=image/jpeg:https://www.meetxr.de/wp-content/uploads/2021/01/2021-02-02_VRSport_FullHD.jpg
END:VEVENT
END:VCALENDAR