BEGIN:VCALENDAR
VERSION:2.0
PRODID:-//meetXR - ECPv5.8.0//NONSGML v1.0//EN
CALSCALE:GREGORIAN
METHOD:PUBLISH
X-WR-CALNAME:meetXR
X-ORIGINAL-URL:https://www.meetxr.de
X-WR-CALDESC:Veranstaltungen für meetXR
BEGIN:VTIMEZONE
TZID:Europe/Berlin
BEGIN:DAYLIGHT
TZOFFSETFROM:+0100
TZOFFSETTO:+0200
TZNAME:CEST
DTSTART:20180325T010000
END:DAYLIGHT
BEGIN:STANDARD
TZOFFSETFROM:+0200
TZOFFSETTO:+0100
TZNAME:CET
DTSTART:20181028T010000
END:STANDARD
END:VTIMEZONE
BEGIN:VEVENT
DTSTART;TZID=Europe/Berlin:20181101T180000
DTEND;TZID=Europe/Berlin:20181104T180000
DTSTAMP:20260425T200315
CREATED:20180820T094746Z
LAST-MODIFIED:20180820T094746Z
UID:566-1541095200-1541354400@www.meetxr.de
SUMMARY:PLAY18 - Creative Gaming Festival
DESCRIPTION:Vom 1. bis 4. November 2018 lädt das PLAY – Creative Gaming Festival alle Gaming-Begeisterten ein\, unter dem Motto „Ready Game Change – Create a New Tomorrow“ gemeinsam spielerisch die Welt von morgen zu gestalten. \nZum elften Mal ruft das Creative Gaming Festival zum Mitmachen\, Diskutieren\, Entwickeln und vor allem zum Mitspielen auf. Etwa in einer Games-Ausstellung mit neuartigen Spielkonzepten und innovativen Steuerungen. In Workshops\, u. a. zum Thema Game Design. In Impulsen\, z. B. über die Macht des Storytellings. In Redeformaten mit Gästen\, die mit Spielen die Welt verändern wollen. Oder in der Speakers‘ Corner\, bei der alle was zu sagen haben sowie beim Creative Gaming Award\, der alljährlich die spannendsten und kreativsten Indie-Games prämiert.
URL:https://www.meetxr.de/event/play18-creative-gaming-festival/
LOCATION:Hühnerposten\, Hühnerposten 1\, Hamburg\, 20097\, Deutschland
CATEGORIES:play,talk
ATTACH;FMTTYPE=image/png:https://www.meetxr.de/wp-content/uploads/2018/08/2018-11-01_PLAY18.png
ORGANIZER;CN="PLAY%20%E2%80%93%20Creative%20Gaming%20Festival":MAILTO:info@playfestival.de
END:VEVENT
END:VCALENDAR