BEGIN:VCALENDAR
VERSION:2.0
PRODID:-//meetXR - ECPv5.8.0//NONSGML v1.0//EN
CALSCALE:GREGORIAN
METHOD:PUBLISH
X-WR-CALNAME:meetXR
X-ORIGINAL-URL:https://www.meetxr.de
X-WR-CALDESC:Veranstaltungen für meetXR
BEGIN:VTIMEZONE
TZID:Europe/Berlin
BEGIN:DAYLIGHT
TZOFFSETFROM:+0100
TZOFFSETTO:+0200
TZNAME:CEST
DTSTART:20210328T010000
END:DAYLIGHT
BEGIN:STANDARD
TZOFFSETFROM:+0200
TZOFFSETTO:+0100
TZNAME:CET
DTSTART:20211031T010000
END:STANDARD
END:VTIMEZONE
BEGIN:VEVENT
DTSTART;TZID=Europe/Berlin:20210917T140000
DTEND;TZID=Europe/Berlin:20210918T210000
DTSTAMP:20260425T200104
CREATED:20210831T204327Z
LAST-MODIFIED:20210831T204327Z
UID:3190-1631887200-1631998800@www.meetxr.de
SUMMARY:Places _ Hackathon
DESCRIPTION:In nur 24 Stunden von einer Aufgabenstellung zu einem VR/AR-Prototypen – und das in interdisziplinären Teams aus Designern\, Codern und Experts aus vielen weiteren Bereichen. Das ist der Places _ Hackathon. Wir vom Places _ VR Festival glauben\, dass sich die Technologien der Extended Reality (VR\, AR\, MR) besonders eignen\, um Lösungen für besondere Herausforderungen unserer Gesellschaft zu diskutieren\, Visionen erlebbar zu machen und die Zukunft zu planen. Beim Places _ Hackathon haben die Teilnehmenden 24 Stunden Zeit für Entwicklung und Prototyping einer VR/AR/MR-Anwendung\, die die Herausforderungen unserer Zeit ein wenig besser meisterbar macht. \nJetzt anmelden! \nBeim Places _ Hackathon wird die ganze Innovationskraft von Extended Reality sichtbar! \nAblauf\n› Vorstellung der Challenges\, Teambuilding & SetUp der Workstations\n› Start of Coding\n› 24 Stunden Coding\n› End of Coding und anschließender Jury-Rundgang\n› Präsentation beim Festival\n› Zentrum und Preisverleihung\n› Gemütlicher Ausklang auf dem Festivalgelände \nWas wir dir während des Hackathons bieten:\n› Essen und Getränke für 24 Stunden\n› Spektakuläre Gruppenarbeitsplätze in der Arkade des Wissenschaftsparks Gelsenkirchen\n› VR-Work-Stations\n› Ruheraum und Rückzugsmöglichkeiten\n› Bewertung von einer namhaften Fachjury\n› Öffentliche Siegerehrung im Festival-Programm\n› Falls gewünscht: Kostenfreie Übernachtungsplätze\n› evtl. Fahrtkostenzuschuss bei weiter Anreise \nWie können VR\, AR & Co die digitale Welt sicherer machen?\nEgal ob Hacker-Angriffe\, Spionage oder Sicherheitslücken – Problemstellungen rund um das Thema IT- und Datensicherheit beschäftigen Konzerne und Startups\, Kommunen und Ministerien. In den 24 Stunden des diesjährigen Places _ Hackathons beschäftigen sich die Teams daher mit Challenges aus der IT-Sicherheit. Wie können IT-Infrastrukturen besser visualisiert werden? Wie können Menschen noch besser für den sicheren Umgang mit Computern und Servern geschult werden? Welche Risiken birgt die VR-Technologie möglicherweise selbst? \nKlingt das nach einer Herausforderung für dich?\nDann melde dich jetzt direkt an:\nJetzt anmelden!\nAlle Informationen (PDF)
URL:https://www.meetxr.de/event/places-_-hackathon/
LOCATION:Wissenschaftspark Gelsenkirchen\, Munscheidstraße 14\, Gelsenkirchen\, 45886\, Deutschland
CATEGORIES:hack
ATTACH;FMTTYPE=image/jpeg:https://www.meetxr.de/wp-content/uploads/2021/08/201182913_1198237167308268_3578017130465484000_n.jpg
END:VEVENT
END:VCALENDAR