BEGIN:VCALENDAR
VERSION:2.0
PRODID:-//meetXR - ECPv5.8.0//NONSGML v1.0//EN
CALSCALE:GREGORIAN
METHOD:PUBLISH
X-WR-CALNAME:meetXR
X-ORIGINAL-URL:https://www.meetxr.de
X-WR-CALDESC:Veranstaltungen für meetXR
BEGIN:VTIMEZONE
TZID:Europe/Berlin
BEGIN:DAYLIGHT
TZOFFSETFROM:+0100
TZOFFSETTO:+0200
TZNAME:CEST
DTSTART:20180325T010000
END:DAYLIGHT
BEGIN:STANDARD
TZOFFSETFROM:+0200
TZOFFSETTO:+0100
TZNAME:CET
DTSTART:20181028T010000
END:STANDARD
END:VTIMEZONE
BEGIN:VEVENT
DTSTART;TZID=Europe/Berlin:20181007T140000
DTEND;TZID=Europe/Berlin:20181007T210000
DTSTAMP:20260425T222425
CREATED:20180917T104700Z
LAST-MODIFIED:20180917T104842Z
UID:692-1538920800-1538946000@www.meetxr.de
SUMMARY:Pixelpokal - Hannovers Videospiel-Event
DESCRIPTION:Wir spielen Videospiele um die Wette – auf Leinwänden und mit kühlen Getränken. \nNeben den Leinwanddisziplinen gibt es etliche Spielestationen mit wechselnden Klassikern der Videospielgeschichte\, an denen man auf Erfolge- und Highscore-Jagd gehen kann. Für die besten Spieler gibt es Preise. \nWer nicht selbst am Turnier teilnehmen möchte\, kann auch nur die Spielestationen abseits der Leinwände bespielen\, Virtual Reality ausprobieren\, beim Videospiel-Quiz mitmachen\, sich an der Bar vergnügen und und und… \nIhr könnt gerne als Zuschauer\, normaler Spieler oder angehender Turnierteilnehmer vorbeigucken. Wer die erspielten Punkte für die Jahres-Highscore behalten möchte\, muss sich kurz mit einem Spielernamen auf www.pixelpokal.de registrieren. \nVVK: 13€\nTageskasse: 15€\nEinlass ist ab 18 Jahren.
URL:https://www.meetxr.de/event/pixelpokal-hannovers-videospiel-event/
LOCATION:Capitol Hannover\, Schwarzer Bär 2\, Hannover\, 30449\, Deutschland
CATEGORIES:play
ATTACH;FMTTYPE=image/jpeg:https://www.meetxr.de/wp-content/uploads/2018/09/2018-10-07_Pixelpokal.jpg
ORGANIZER;CN="Pixelpokal":MAILTO:support@pixelpokal.de
END:VEVENT
END:VCALENDAR