BEGIN:VCALENDAR
VERSION:2.0
PRODID:-//meetXR - ECPv5.8.0//NONSGML v1.0//EN
CALSCALE:GREGORIAN
METHOD:PUBLISH
X-WR-CALNAME:meetXR
X-ORIGINAL-URL:https://www.meetxr.de
X-WR-CALDESC:Veranstaltungen für meetXR
BEGIN:VTIMEZONE
TZID:Europe/Berlin
BEGIN:DAYLIGHT
TZOFFSETFROM:+0100
TZOFFSETTO:+0200
TZNAME:CEST
DTSTART:20210328T010000
END:DAYLIGHT
BEGIN:STANDARD
TZOFFSETFROM:+0200
TZOFFSETTO:+0100
TZNAME:CET
DTSTART:20211031T010000
END:STANDARD
END:VTIMEZONE
BEGIN:VEVENT
DTSTART;TZID=Europe/Berlin:20210923T100000
DTEND;TZID=Europe/Berlin:20210926T180000
DTSTAMP:20260425T212007
CREATED:20210921T123856Z
LAST-MODIFIED:20210921T123856Z
UID:3212-1632391200-1632679200@www.meetxr.de
SUMMARY:PHOTOPIA XR
DESCRIPTION:Auf 600m² Fläche dreht sich alles um Virtual und Augmented Reality! Mit einzigartigen Events und visuellen Highlights setzen wir neue Trends in der Fotoszene. \n#shareyourreality\nErlebe die Werke unserer Schirmfrau Ellen von Unwerth und der namhaften Fotografin Tine Acke nicht nur live sondern auch virtuell! Auf unserer virtual Experience Area tauchst du in eine virtuelle 3D-Messewelt und kannst dir die Ausstellungen Larger than Life und Stärker als die Zeit betrachten. \nVirtual Experience auf der PHOTOPIA XR\n\nXRchitecture\nDie XRchitecture findest Du auf unserer XR Fläche in Halle A1. Sie ist nicht nur ein echter Hingucker\, sondern ein technisches Highlight: Tauche mit der VR-Brille in die 3D-Messewelt ein und schaue Dir die Vorträge der PHOTOPIA im Livestream an. Mit Hilfe der Cross-Reality Eventplattform XRevent werden virtuelle und reale Ereignisse für Multiuser miteinander verknüpft.\nKonferenzen\, Ausstellungen\, Konzerte\, Licht- und Video-Mapping-Installationen können gleichzeitig in der realen wie auch in der virtuellen Welt erlebt werden. \n\nUnsichtbare Welten\nDie AR-Skulptur „Unsichtbare Welten“ verbindet bekannte Begebenheiten und fiktionale Elemente mit dem Charme von AR und bietet Dir die Möglichkeit\, spielerische Kurzgeschichten zu erleben. Auf den ersten Blick siehst du einen einfachen Würfel – traust Du Dich\, den QR-Code zu scannen und die verborgenen Welten zu betreten? \n\nVRHQ\nDas VRHQ stellt insgesamt vier spannende Stationen zur Verfügung\, die Dich in unentdeckte Galaxien und in die Welt des virtual Gamings eintauchen lassen:\nBist du mutig genug und wagst THE GATE zu betreten? Dann mach Dich bereit für einen fantastischen Trip in das Macro- und Microuniversum unserer Galaxie. Anschließend tauche ab in die betörenden Welten von Noys VR und erlebe Livemusik wie niemals zuvor.\nSportlich aktiv wird es dann während einer Session Tower Tag\, dem preisgekrönten VR Lasertag Game. Ausgestattet mit VR-Brille\, Blaster-Gun und Feedback-Weste erwartet Dich eine Cyberpunk Welt. In Zweier-Teams heißt es hier: Laserfeuer frei!\nLust auf einen atemberaubenden Flug durch die schönste Stadt der Welt? Überhaupt kein Problem! VLYR macht es möglich. Setze Dich in die reale Gondel und schwebe virtuell an die interessantesten Orte Hamburgs und bestaune sie aus einer ganz neuen Perspektive.\nDen Abschluss der virtuellen Experience macht das VR Museum mit einer Zeitreise durch die VR-Geschichte und zeigt Dir Ausstellungsstücke der letzten 25 Jahre.\nFreue Dich auf viel Action und eine Menge Spaß beim Ausprobieren! \n\n\n\nPaKOMM\nStadtplanung\, die nicht nur produktiv\, sondern auch inklusiv und unterhaltsam ist? Das erlebst Du mit PaKOMM\, einem Touchtisch mit Virtual- und Augmented-Reality Settings.\nEntwickle\, diskutiere und verändere gemeinsam die Gestaltung eines Parks und erlebe ein Planungsvorhaben der neuen Art! \n\nFür Broadcast- und Fotoprofis\nSei einer der ersten\, wenn Sony exklusiv das neue Xperia PRO im Loungebereich der PHOTOPIA XR Fläche präsentiert. Mit dem Xperia PRO können Broadcast- und Fotoprofis schneller und smarter arbeiten als je zuvor. Es ist das weltweit erste Smartphone mit speziellem HDMI-Eingang sowie USB- oder Ethernet-Tethering mit einer α Kamera. Live-Streaming\, OLED-Display mit 4K Auflösung sowie schnelle\, unkomplizierte Dateiübertragungen eröffnen Profis ganz neue Möglichkeiten.
URL:https://www.meetxr.de/event/photopia-xr/
LOCATION:Hamburg Messe und Congress\, Messeplatz 1\, Hamburg\, 20357
CATEGORIES:play,talk
ATTACH;FMTTYPE=image/jpeg:https://www.meetxr.de/wp-content/uploads/2021/09/2021-09-25_PhotopiaXR.jpg
END:VEVENT
END:VCALENDAR