BEGIN:VCALENDAR
VERSION:2.0
PRODID:-//meetXR - ECPv5.8.0//NONSGML v1.0//EN
CALSCALE:GREGORIAN
METHOD:PUBLISH
X-WR-CALNAME:meetXR
X-ORIGINAL-URL:https://www.meetxr.de
X-WR-CALDESC:Veranstaltungen für meetXR
BEGIN:VTIMEZONE
TZID:Europe/Berlin
BEGIN:DAYLIGHT
TZOFFSETFROM:+0100
TZOFFSETTO:+0200
TZNAME:CEST
DTSTART:20200329T010000
END:DAYLIGHT
BEGIN:STANDARD
TZOFFSETFROM:+0200
TZOFFSETTO:+0100
TZNAME:CET
DTSTART:20201025T010000
END:STANDARD
END:VTIMEZONE
BEGIN:VEVENT
DTSTART;TZID=Europe/Berlin:20201024T190000
DTEND;TZID=Europe/Berlin:20201024T200000
DTSTAMP:20260425T201507
CREATED:20201020T143845Z
LAST-MODIFIED:20201020T143845Z
UID:2744-1603566000-1603569600@www.meetxr.de
SUMMARY:Otherland
DESCRIPTION:Otherland\nVisionen für eine Zukunft der Virtuellen Realität \n1992 veröffentlichte der US-amerikanische Bestseller-Autor Tad Wiliams den ersten Band seiner Cyberpunk-Romanreihe „Otherland“. Die Handlung spielt in der zweiten Hälfte des 21. Jahrhunderts in einer Welt\, in der eine Weiterentwicklung des Internets das gesamte Leben dominiert. Die meisten Menschen verbringen viel Zeit in virtuellen Umgebungen\, einige haben sich fast völlig aus der realen Welt zurückgezogen. \nRealistisch und visionär gelang es Tad Williams mit „Otherland“ die Multimediawelt von 1992 auf die Verhältnisse des 21. Jahrhunderts hochzurechnen. Obwohl manche Dinge – wie die Implantate\, mit denen die Sinnesnerven der Nutzer sich direkt mit der virtuellen Welt verbinden können – immer noch Fiktion sind\, nahm Williams viele Dinge vorweg\, die heute alltäglich sind. \nWie sieht Tad Williams die Zukunft der virtuellen Realität heute\, fast 30 Jahre nach der Veröffentlichung seines ersten Science-Fiction-Romans?  Wie könnte sich VR weiterentwickeln? Diese und andere Fragen diskutiert der Autor mit dem VR-Experten Benjamin Rudolf. \nDie Veranstaltung findet hybrid statt.\nWenn Sie vor Ort in Stuttgart an der Veranstaltung teilnehmen möchten\, melden Sie sich hier an. \nWenn Sie online an der Veranstaltung teilnehmen wollen\, registrieren Sie sich hier. \nInformationen zu den Infektionsschutz- und Hygienemaßnahmen finden Sie hier. \nZielgruppe\nKultur- und Kreativschaffende\, Gründer*innen\, Selbstständige und Kleinunternehmer*innen sowie Fach- und Führungskräfte aus Kultureinrichtungen \nVeranstaltungsdatum\nSamstag\, 24. Oktober 2020\, 19:00 Uhr \nVeranstaltungsort\n\nLiteraturhaus Stuttgart\nBreitscheidstr. 4\n70174 Stuttgart \nVeranstalter\nMFG Baden-Württemberg \nTeilnahmegebühr\nDie Veranstaltung ist kostenfrei \nAnmeldung\nEine Anmeldung für die Live-Veranstaltung ist bis zum 14. Oktober 2020 erforderlich.\nEine Registrierung für die Online-Veranstaltung ist bis zum 23. Oktober 2020 erforderlich.
URL:https://www.meetxr.de/event/otherland/
LOCATION:Online Event\, online
CATEGORIES:talk
END:VEVENT
END:VCALENDAR