BEGIN:VCALENDAR
VERSION:2.0
PRODID:-//meetXR - ECPv5.8.0//NONSGML v1.0//EN
CALSCALE:GREGORIAN
METHOD:PUBLISH
X-WR-CALNAME:meetXR
X-ORIGINAL-URL:https://www.meetxr.de
X-WR-CALDESC:Veranstaltungen für meetXR
BEGIN:VTIMEZONE
TZID:Europe/Berlin
BEGIN:DAYLIGHT
TZOFFSETFROM:+0100
TZOFFSETTO:+0200
TZNAME:CEST
DTSTART:20220327T010000
END:DAYLIGHT
BEGIN:STANDARD
TZOFFSETFROM:+0200
TZOFFSETTO:+0100
TZNAME:CET
DTSTART:20221030T010000
END:STANDARD
END:VTIMEZONE
BEGIN:VEVENT
DTSTART;TZID=Europe/Berlin:20220420T183000
DTEND;TZID=Europe/Berlin:20220420T203000
DTSTAMP:20260425T173029
CREATED:20220406T074326Z
LAST-MODIFIED:20220419T144008Z
UID:4788-1650479400-1650486600@www.meetxr.de
SUMMARY:nextReality trifft XR Maritim
DESCRIPTION:Unser nächstes Meetup findet am 20. April zusammen mit homePORT statt. Wir freuen uns euch endlich wieder real zu treffen\, denn das Meetup mit Paneldiskussion findet auf dem Innovationscampus von homePORT\, Am Elbtunnel 6\, statt. Wir beginnen um 18:30 Uhr. \nGemeinsam mit unseren Gästen aus dem Umfeld des Hamburger Hafens möchten wir über den Einsatz von XR Technologie bei der Planung\, Wartung und Visualisierung sprechen. Von digitalen Zwillingen bis zum Einsatz von AR in der Schiffsführung: wie digital ist die maritime Welt eigentlich aufgestellt? \nWir freuen uns auf unsere Gäste: \nMarkus Meyer-Westphal\, Digital Solution Consultant bei der customQuake GmbH. Zusammen mit der Hamburg Port Authority (HPA) haben sie das Projekt smartBRIDGE Hamburg\, den digitalen Zwilling der Hamburger Köhlbrandbrücke\, entwickelt. Markus teilt Insights\, wie sich das Know-how in Softwarearchitektur und -entwicklung mit dem Fachwissen der Brückeningenieur:innen kombinieren ließ. \nMoritz Rath\, Product & Innovation Manager bei Fehrmann. Er ist involviert in das Forschungsprojekt Smart Window\, in dem es um Augmented Reality in der Schiffsführung geht. Bei diesem Projekt werden intelligente Lösungen entwickelt\, die zukünftig alle relevanten Daten für den Schiffsbetrieb verarbeiten\, filtern und in einem Augmented Reality (AR) Display darstellen. \nMaximiliane Lorenz ist bei Fraunhofer IML im Bereich Innovative Transport-Technologien tätig. Sie arbeitet daran\, Augmented Reality Anwendungen für die Transport- und Umschlaglogistik zu implementieren. Innovative Technologien sind auch in diesem Bereich von wachsendem Interesse und beeinflussen in zunehmendem Maß die Logistik und ermöglichen neue Formen intelligenter Transportketten. \nDer vierte Gast in der Runde ist Marc Bride\, Projektmanager F&E bei der Hamburg Port Authority (HPA). Unter anderem ist er am Projekt WizARd beteiligt\, das die Wissensvernetzung und die Kollaboration in Unternehmen durch die Verwendung von AR und VR erleichtert.  \nFür die Planung meldet euch bitte direkt bei Sarah an: Sarah.Wienberg@nextReality.Hamburg\nDie Veranstaltung findet unter 3G-Auflagen statt. \nMehr Infos findet ihr auf Meetup: https://www.meetup.com/de-DE/nextReality/events/284823784/ \nIhr könnt nicht vor Ort dabei sein? Kein Problem\, hier findet ihr den Livestream des Panels auf YouTube: https://youtu.be/9XUNRVaSjnk
URL:https://www.meetxr.de/event/nextreality-trifft-xr-maritim/
LOCATION:homePORT Hamburg\, Am Elbtunnel 6\, Hamburg\, Deutschland
CATEGORIES:talk
ATTACH;FMTTYPE=image/jpeg:https://www.meetxr.de/wp-content/uploads/2022/04/2022-04-20_XRMaritim_FullHD.jpg
END:VEVENT
END:VCALENDAR