BEGIN:VCALENDAR
VERSION:2.0
PRODID:-//meetXR - ECPv5.8.0//NONSGML v1.0//EN
CALSCALE:GREGORIAN
METHOD:PUBLISH
X-WR-CALNAME:meetXR
X-ORIGINAL-URL:https://www.meetxr.de
X-WR-CALDESC:Veranstaltungen für meetXR
BEGIN:VTIMEZONE
TZID:Europe/Berlin
BEGIN:DAYLIGHT
TZOFFSETFROM:+0100
TZOFFSETTO:+0200
TZNAME:CEST
DTSTART:20210328T010000
END:DAYLIGHT
BEGIN:STANDARD
TZOFFSETFROM:+0200
TZOFFSETTO:+0100
TZNAME:CET
DTSTART:20211031T010000
END:STANDARD
END:VTIMEZONE
BEGIN:VEVENT
DTSTART;TZID=Europe/Berlin:20210324T190000
DTEND;TZID=Europe/Berlin:20210324T210000
DTSTAMP:20260425T211422
CREATED:20210305T125345Z
LAST-MODIFIED:20210317T152252Z
UID:2827-1616612400-1616619600@www.meetxr.de
SUMMARY:nextReality trifft Storytelling
DESCRIPTION:Am 24. März treffen wir uns um 19 Uhr zu unserem nächsten Meetup über VR und in VR! Dieses Mal widmen wir uns dem Thema Storytelling und möchten mit euch und unseren Gästen Astrid Kahmke\, Pola Weiß und Ricarda Saleh darüber diskutieren\, wie interessante und spannende Erzählungen und Erfahrungen in interaktiven und immersiven Medien entstehen. \nAstrid Kahmke ist Head of the European Creators’ Lab. Das Lab richtet sich an Kreative\, die jedes Jahr in gemeinsam mit internationalen Expert:innen Ideen und erste Prototypen entwickeln. Der Fokus liegt dabei auf Storytelling\, der Entwicklung von Inhalten und den kreativen Herausforderungen immersiver Welten. Zusätzlich ist Astrid als Autorin\, Organisatorin des (aktuell pausierten) Virtual World Festivals\, Kuratorin und Jury-Mitglied bei zahlreichen Ausstellungsformaten und Projekten aktiv. \nPola Weiß ist freie Autorin\, Redakteurin und Texterin. Seit 2017 schreibt Pola auf ihrem Blog VR Geschichten über Storytelling in immersiven Welten und wie sich das Medium mit Virtual Reality mit Erzähltechniken verknüpfen lässt. Ihr Wissen vermittelt Pola außerdem in Storytelling Workshops und Vorträgen. \nRicarda Saleh ist Autorin und Regisseurin insbesondere für interaktive und immersive Formate wie Virtual und Augmented Reality. Ihre Abschlussarbeit\, die 360° Dokumentation »Lionhearted« (2017)\, wurde mehrmals auf internationalen Filmfestivals ausgezeichnet. 2019 gewann Ricarda mit ihrem Film »Paris Terror« den nextReality.Contest in der Kategorie 360°-Movie. \nWir freuen uns auf euch! \n___________ \nWir immer\, könnt ihr das Meetup live in der virtuellen Welt von AltspaceVR verfolgen oder unseren Livestream auf YouTube anschauen. \nDen Livestream findet ihr hier: https://youtu.be/2GaD8I9JhOo \nAuch die Teilnahme in AltspaceVR mit oder ohne VR-Brille ist ganz einfach! Hier sind die wichtigsten Schritte: \nZunächst braucht ihr die AltspaceVR Software. Das Wunderbare an ist\, dass AltspaceVR für alle gängigen VR-Systeme zur Verfügung steht. Die jeweiligen Clients findet ihr hier:\nhttps://altvr.com/get-altspacevr/ \nNoch schöner: AltspaceVR setzt nicht zwingend eine VR-Brille voraus\, sondern kann auch am Bildschirm erlebt werden. Den 2D-Clienten für Windows findet ihr hier:\nhttps://account.altvr.com/downloads \nFall ihr noch keinen AltspaceVR Account habt\, benötigt ihr einen. Diesen könnt ihr nach der Installation direkt in der App einrichten \nAlles\, was ihr dann noch tun müsst\, ist den Link zu unseren Event zu folgen und auf „Interested“ zu klicken. So findet ihr das Event in VR oder im 2D-Modus schnell wieder:\nhttps://account.altvr.com/events/1685530895085208386
URL:https://www.meetxr.de/event/nextreality-trifft-storytelling/
LOCATION:AltspaceVR\, AltspaceVR
CATEGORIES:talk
ATTACH;FMTTYPE=image/jpeg:https://www.meetxr.de/wp-content/uploads/2021/03/2021-03-24_Storytelling_FullHD-1.jpg
END:VEVENT
END:VCALENDAR