BEGIN:VCALENDAR
VERSION:2.0
PRODID:-//meetXR - ECPv5.8.0//NONSGML v1.0//EN
CALSCALE:GREGORIAN
METHOD:PUBLISH
X-WR-CALNAME:meetXR
X-ORIGINAL-URL:https://www.meetxr.de
X-WR-CALDESC:Veranstaltungen für meetXR
BEGIN:VTIMEZONE
TZID:Europe/Berlin
BEGIN:DAYLIGHT
TZOFFSETFROM:+0100
TZOFFSETTO:+0200
TZNAME:CEST
DTSTART:20200329T010000
END:DAYLIGHT
BEGIN:STANDARD
TZOFFSETFROM:+0200
TZOFFSETTO:+0100
TZNAME:CET
DTSTART:20201025T010000
END:STANDARD
END:VTIMEZONE
BEGIN:VEVENT
DTSTART;TZID=Europe/Berlin:20200624T190000
DTEND;TZID=Europe/Berlin:20200624T210000
DTSTAMP:20260425T185021
CREATED:20200610T123222Z
LAST-MODIFIED:20200610T123238Z
UID:2647-1593025200-1593032400@www.meetxr.de
SUMMARY:nextReality trifft Data Science – Datenvisualisierung und VR
DESCRIPTION:Save the Date: Unser nächstes nextReality Meetup findet am 24. Juni um 19 Uhr statt! Dieses Mal werden wir über Datenvisualisierung in VR sprechen. Mehr Infos folgen bald. \nWir freuen uns schon auf euch\,\neuer nextReality.Hamburg-Team \n_____________________\nDie Teilnahme ist ganz einfach! Hier sind die wichtigsten Schritte: \nZunächst benötigt ihr einen AltspaceVR Account. Falls ihr noch keinen habt\, könnt ihr den hier einrichten:\nhttps://account.altvr.com/users/sign_up \nDas wunderbare an AltspaceVR ist\, dass es für alle gängigen VR-Systeme zur Verfügung steht. Die jeweiligen Clients findet ihr hier:\nhttps://altvr.com/get-altspacevr/ \nNoch schöner: AltspaceVR setzt nicht zwingend eine VR-Brille voraus\, sondern kann auch am Bildschirm erlebt werden. Den 2D-Clienten für Windows findet ihr hier:\nhttps://account.altvr.com/downloads \nAlles\, was ihr dann noch tun müsst\, ist den Link zu unseren Event zu folgen und auf „Interested“ zu klicken. So findet ihr das Event in VR oder im 2D-Modus schnell wieder:\nhttps://account.altvr.com/events/1491943736475648926
URL:https://www.meetxr.de/event/nextreality-trifft-data-science-datenvisualisierung-und-vr/
LOCATION:AltspaceVR\, AltspaceVR
CATEGORIES:talk
ATTACH;FMTTYPE=image/jpeg:https://www.meetxr.de/wp-content/uploads/2020/06/2020-06-24_DataScience_FullHD.jpg
END:VEVENT
END:VCALENDAR