BEGIN:VCALENDAR
VERSION:2.0
PRODID:-//meetXR - ECPv5.8.0//NONSGML v1.0//EN
CALSCALE:GREGORIAN
METHOD:PUBLISH
X-WR-CALNAME:meetXR
X-ORIGINAL-URL:https://www.meetxr.de
X-WR-CALDESC:Veranstaltungen für meetXR
BEGIN:VTIMEZONE
TZID:Europe/Berlin
BEGIN:DAYLIGHT
TZOFFSETFROM:+0100
TZOFFSETTO:+0200
TZNAME:CEST
DTSTART:20220327T010000
END:DAYLIGHT
BEGIN:STANDARD
TZOFFSETFROM:+0200
TZOFFSETTO:+0100
TZNAME:CET
DTSTART:20221030T010000
END:STANDARD
END:VTIMEZONE
BEGIN:VEVENT
DTSTART;TZID=Europe/Berlin:20220831T180000
DTEND;TZID=Europe/Berlin:20220831T200000
DTSTAMP:20260425T200525
CREATED:20220817T130359Z
LAST-MODIFIED:20220817T144440Z
UID:5059-1661968800-1661976000@www.meetxr.de
SUMMARY:nextReality BBQ
DESCRIPTION:Am 31. August 2022 ab 18 Uhr möchten wir\, nextReality.Hamburg e.V.\, euch zum Grillen und Chillen im Hayns Park einladen. \nEs ist mal wieder Zeit\, dass wir uns sehen und uns ganz entspannt austauschen und schnacken können. \nFür Getränke\, Grill\, Grillgut und Vegetarisches sorgen wir. Damit wir aber ungefähr wissen wie viel wir einkaufen sollten\, meldet euch bitte kurz über www.nextreality.hamburg/anmeldung/grillen-2022 an.
URL:https://www.meetxr.de/event/nextreality-bbq/
LOCATION:Hayns Park\, Eppendorfer Landstraße 148B\, Hamburg\, 20251\, Deutschland
CATEGORIES:play
ATTACH;FMTTYPE=image/jpeg:https://www.meetxr.de/wp-content/uploads/2022/08/2022-08-31_nextRealityBBQ_FullHD.jpg
END:VEVENT
END:VCALENDAR