BEGIN:VCALENDAR
VERSION:2.0
PRODID:-//meetXR - ECPv5.8.0//NONSGML v1.0//EN
CALSCALE:GREGORIAN
METHOD:PUBLISH
X-WR-CALNAME:meetXR
X-ORIGINAL-URL:https://www.meetxr.de
X-WR-CALDESC:Veranstaltungen für meetXR
BEGIN:VTIMEZONE
TZID:Europe/Berlin
BEGIN:DAYLIGHT
TZOFFSETFROM:+0100
TZOFFSETTO:+0200
TZNAME:CEST
DTSTART:20200329T010000
END:DAYLIGHT
BEGIN:STANDARD
TZOFFSETFROM:+0200
TZOFFSETTO:+0100
TZNAME:CET
DTSTART:20201025T010000
END:STANDARD
END:VTIMEZONE
BEGIN:VEVENT
DTSTART;TZID=Europe/Berlin:20200414T193000
DTEND;TZID=Europe/Berlin:20200414T213000
DTSTAMP:20260425T183336
CREATED:20190204T181613Z
LAST-MODIFIED:20200127T002040Z
UID:2294-1586892600-1586899800@www.meetxr.de
SUMMARY:Munich AR Regulars Table #ARMUC
DESCRIPTION:We have a regulars’ table on AR and VR… \n• for you to get to know and get involved in the AR & VR community \n• to exchange new ideas and crazy concepts \n• to show off with new technology* done by your own or by others \n• to gather ideas for new projects \n• to discuss the status quo or upcoming hard- & software \n• to network \n• to present demos \n• … or just for a beer chatting about something completely different! \n*) We will discuss and ideally show and use technologies such as: Microsoft Hololens\, the META\, Oculus Rift\, HTC Vive\, Playstation VR\, GearVR\, Daydream\, Project Tango devices\, Leap Motion\, Sulon-Q… and maybe one day Magic Leap. 🙂 \nFind more details on the augmented blog: \nhttp://www.augmented.org/blog/augmented-reality-stammtisch-munchen/ \nThe regulars’ table is now with a fixed recurrence of every 8 weeks. Be sure to check back here on MeetUp for details.
URL:https://www.meetxr.de/event/munich-ar-regulars-table-armuc-15/
LOCATION:Impact Hub\, Gotzinger Straße 8\, München\, 81371\, Deutschland
CATEGORIES:talk
ATTACH;FMTTYPE=image/jpeg:https://www.meetxr.de/wp-content/uploads/2018/08/ARStammtischMuenchen.jpeg
END:VEVENT
END:VCALENDAR