BEGIN:VCALENDAR
VERSION:2.0
PRODID:-//meetXR - ECPv5.8.0//NONSGML v1.0//EN
CALSCALE:GREGORIAN
METHOD:PUBLISH
X-WR-CALNAME:meetXR
X-ORIGINAL-URL:https://www.meetxr.de
X-WR-CALDESC:Veranstaltungen für meetXR
BEGIN:VTIMEZONE
TZID:Europe/Berlin
BEGIN:DAYLIGHT
TZOFFSETFROM:+0100
TZOFFSETTO:+0200
TZNAME:CEST
DTSTART:20220327T010000
END:DAYLIGHT
BEGIN:STANDARD
TZOFFSETFROM:+0200
TZOFFSETTO:+0100
TZNAME:CET
DTSTART:20221030T010000
END:STANDARD
END:VTIMEZONE
BEGIN:VEVENT
DTSTART;TZID=Europe/Berlin:20220406T100000
DTEND;TZID=Europe/Berlin:20220406T140000
DTSTAMP:20260425T171022
CREATED:20220225T164027Z
LAST-MODIFIED:20220225T164027Z
UID:4570-1649239200-1649253600@www.meetxr.de
SUMMARY:Metaverse4Learning – Workshop
DESCRIPTION:Wie kann ein Metaverse im Umfeld Learning eingesetzt werden? \nMachen Sie mit\, gemeinsam die Zukunft mitzugestalten und die neuen Möglichkeiten zielgerichtet einzusetzen und Ideen zu entwickeln und gemeinsam zu diskutieren. \nXR wird Lernen und Zusammenarbeiten revolutionieren“ – „Metaverse – das nächste große Ding im Internet“ – was steckt hinter diesen aktuellen Schlagzeilen? \n\n\n\n\nWorkshopinhalte\n\nWas ist das Metaverse?\nWie sehen Umsetzungen und aktuelle Beispiele aus?\nWelche Rolle könnte es beim Lernen und Training spielen?\nWas wird heute schon konkret umgesetzt und wie sehen zukünftige Einsatzmöglichkeiten aus?\nWie verdient man im Metaverse Geld – welche Geschäftsmodelle sind denkbar?\nWie könnte man heute erste Schritte ins Metaverse gehen?
URL:https://www.meetxr.de/event/metaverse4learning-workshop/
LOCATION:Online Event\, online
CATEGORIES:talk
ATTACH;FMTTYPE=image/jpeg:https://www.meetxr.de/wp-content/uploads/2022/02/2022-04-06_metaverse4learning_workshop.jpg
END:VEVENT
END:VCALENDAR