BEGIN:VCALENDAR
VERSION:2.0
PRODID:-//meetXR - ECPv5.8.0//NONSGML v1.0//EN
CALSCALE:GREGORIAN
METHOD:PUBLISH
X-WR-CALNAME:meetXR
X-ORIGINAL-URL:https://www.meetxr.de
X-WR-CALDESC:Veranstaltungen für meetXR
BEGIN:VTIMEZONE
TZID:Europe/Berlin
BEGIN:DAYLIGHT
TZOFFSETFROM:+0100
TZOFFSETTO:+0200
TZNAME:CEST
DTSTART:20220327T010000
END:DAYLIGHT
BEGIN:STANDARD
TZOFFSETFROM:+0200
TZOFFSETTO:+0100
TZNAME:CET
DTSTART:20221030T010000
END:STANDARD
END:VTIMEZONE
BEGIN:VEVENT
DTSTART;TZID=Europe/Berlin:20220920T170000
DTEND;TZID=Europe/Berlin:20220920T190000
DTSTAMP:20260425T201658
CREATED:20220919T152109Z
LAST-MODIFIED:20220919T152109Z
UID:5148-1663693200-1663700400@www.meetxr.de
SUMMARY:Metaverse Netzwerktreffen Braunschweig
DESCRIPTION:Ich möchte gerne ein Metaverse Netzwerktreffen in Braunschweig etablieren\, hier sollen alle die mit den Themen AR/VR zu tun haben\, mit denen zusammentreffen\, die es nutzen oder ausprobieren wollen. Vorerfahrungen sind keine nötig. Kommt einfach vorbei und lasst uns gemeinsam in neue Welten eintauchen. \nWas interessiert dich am Metaverse?\nJetzt bist du gefragt. Was interessiert dich am Metaverse?\nUm die Themen zu identifizieren\, die für dich am spannendsten sind findet du hier einen kleinen Fragebogen\, dauert nur 2 Minuten  \nZUR UMFRAGE \nKomm vorbei!\nNächster Netzwerk Termin:\n20.09.2022 17:00\nTRAFO Hub\, Sophienstraße 40\, 38118 Braunschweig \nTeilnehmen kann und soll jede:r\, der:die sich für das Thema interessiert. Es sind keine Vorkenntnisse nötig. \nProgramm:\n1. Begrüßung\n2. Kurzinput: XR Netzwerke in Deutschland (Farina Hamann -> www.farina-hamann.de)\n3. Brainstorming: Wie wollen wir uns in Braunschweig zu dem Thema vernetzen?\n4. Hands on
URL:https://www.meetxr.de/event/metaverse-netzwerktreffen-braunschweig/
LOCATION:TRAFO Hub\, Sophienstraße 40\, Braunschweig\, 38118\, Deutschland
CATEGORIES:talk
ATTACH;FMTTYPE=image/webp:https://www.meetxr.de/wp-content/uploads/2022/09/2022-09-20_MetaverseNetzwerkBraunschweig.webp
END:VEVENT
END:VCALENDAR