BEGIN:VCALENDAR
VERSION:2.0
PRODID:-//meetXR - ECPv5.8.0//NONSGML v1.0//EN
CALSCALE:GREGORIAN
METHOD:PUBLISH
X-WR-CALNAME:meetXR
X-ORIGINAL-URL:https://www.meetxr.de
X-WR-CALDESC:Veranstaltungen für meetXR
BEGIN:VTIMEZONE
TZID:Europe/Berlin
BEGIN:DAYLIGHT
TZOFFSETFROM:+0100
TZOFFSETTO:+0200
TZNAME:CEST
DTSTART:20220327T010000
END:DAYLIGHT
BEGIN:STANDARD
TZOFFSETFROM:+0200
TZOFFSETTO:+0100
TZNAME:CET
DTSTART:20221030T010000
END:STANDARD
END:VTIMEZONE
BEGIN:VEVENT
DTSTART;TZID=Europe/Berlin:20220127T170000
DTEND;TZID=Europe/Berlin:20220127T183000
DTSTAMP:20260426T041327
CREATED:20220126T101049Z
LAST-MODIFIED:20220126T101049Z
UID:3513-1643302800-1643308200@www.meetxr.de
SUMMARY:Metaverse Fashion & Avatars Meetup #2
DESCRIPTION:Join us for a presentation followed by a moderated discussion around creative communities in the Metaverse. Lively participation by the audience intended. \nSpeakers: \nSofiane Delloue – Founder @Newcoin – a scalable blockchain for Web 3.0 metaverse with built in DeFi\, social NFT and composable architecture \nOmer Benjakob – Tech & Cyber editor and reporter for Haaretz in English\, and an expert in Wikipedia \n  \nMeetup will happen inside of Spatial.io and can be accessed from VR-glasses\, AR-glasses\, Computer and Mobile. Will share a link to the attendees just before the event.
URL:https://www.meetxr.de/event/metaverse-fashion-avatars-meetup-2/
LOCATION:Spatial\, Spatial
CATEGORIES:talk
ATTACH;FMTTYPE=image/jpeg:https://www.meetxr.de/wp-content/uploads/2022/01/2022-01-27_MetaverseFashionAvatars.jpg
END:VEVENT
END:VCALENDAR