BEGIN:VCALENDAR
VERSION:2.0
PRODID:-//meetXR - ECPv5.8.0//NONSGML v1.0//EN
CALSCALE:GREGORIAN
METHOD:PUBLISH
X-WR-CALNAME:meetXR
X-ORIGINAL-URL:https://www.meetxr.de
X-WR-CALDESC:Veranstaltungen für meetXR
BEGIN:VTIMEZONE
TZID:Europe/Berlin
BEGIN:DAYLIGHT
TZOFFSETFROM:+0100
TZOFFSETTO:+0200
TZNAME:CEST
DTSTART:20190331T010000
END:DAYLIGHT
BEGIN:STANDARD
TZOFFSETFROM:+0200
TZOFFSETTO:+0100
TZNAME:CET
DTSTART:20191027T010000
END:STANDARD
END:VTIMEZONE
BEGIN:VEVENT
DTSTART;VALUE=DATE:20190410
DTEND;VALUE=DATE:20190416
DTSTAMP:20260425T211943
CREATED:20190319T140447Z
LAST-MODIFIED:20190319T141607Z
UID:1363-1554865200-1555297199@www.meetxr.de
SUMMARY:Magenta Virtual Reality Kinotour
DESCRIPTION:WIR BRINGEN VIRTUAL REALITY INS KINO\nEntdecken Sie eine neue Art von Kino und tauchen Sie in virtuelle Welten ein. Gemeinsam können Sie die wilden Tiere Afrikas und atemberaubende Abenteuer in animierten Fantasiewelten erleben. Präsentiert von der Magenta VR App – dem Virtual Reality Portal für die besten 360°- Erlebnisse aus Entertainment\, Musik und Sport. \nWILDE TIERE &TRAUMHAFTE WELTEN IN 360°\nEs erwartet Sie eine Reise durch drei faszinierende virtuelle Welten. Sie werden vor einem brüllenden Jaguar mitten in der afrikanischen Savanne stehen\, dem kindergerechten Abenteuer des heldenhaften Vogels Crow folgen und sich bei einer meisterhaften Mischung aus abstrakten und hyperrealistischen Bildkompositionen völlig entspannen können. \nEIN ERLEBNIS FÜR AUGEN UND OHREN\nDas Besondere an dieser Eventreihe ist das gemeinschaftliche Rund-um-Erlebnis im großen Kinosaal: Während alle Besucher die Filme gleichzeitig über ihre individuellen VR-Headsets Oculus Go sehen\, wird der Ton für alle hörbar über die Soundanlage des Saals wiedergegeben. Die Gäste werden nicht isoliert von ihrer Umwelt\, sondern nehmen teil an den oft mitreißenden Reaktionen ihrer Sitznachbarn. Dieses perfekte immersive VR-Erlebnis macht Telekom Partner evrbit als technischer Dienstleister möglich – durch eine exakte Daten- und Audiosynchronisation zwischen den bis zu 100 Headsets und der Soundanlage des Kinos. \nFILME\nDie Kinovorstellungen bieten abwechslungsreiche\, teils preisgekrönte 360°-Filme und richten sich an alle Altersgruppen. Vor allem VR-Neulinge bekommen die Möglichkeit das Abenteuer Virtual Reality erstmals zu testen. Geschulte Mitarbeiter geben den Gästen eine Einführung sowie eine Erläuterung in die Handhabung der Headsets. Jede Vorstellung dauert circa eine Stunde\, in der drei Kurzfilme von jeweils 12 bis 20 Minuten gezeigt werden. Die Mischung aus Animation\, Dokumentation und Traumwelten garantiert einen abwechslungsreichen und außergewöhnlichen Kinonachmittag. \nCROW: The Legend\nDer Animationsfilm vom Regisseur von Madagascar erzählt eine wunderbare Legende amerikanischer Ureinwohner: Als die Erde nur von Tieren bevölkert wurde\, herrscht ein immerwährender Frühling. Der „Geist der Jahreszeiten“ lässt jedoch den Winter hereinbrechen. Crow\, der so selbstverliebt wie bunt gefiederte Titelheld\, ist der Einzige\, der den Sommer zurückbringen und die anderen Tiere vorm Erfrieren bewahren kann. Stars wie John Legend und Oprah Winfrey verleihen den Tieren ihre Stimmen. Ein aufregendes Erlebnis für die ganze Familie! \nConscious Existence\nEs ist das wohl wertvollste Geschenk\, das ein Geschöpf auf dieser Erde erhält: das Leben. Dieses VR-Erlebnis berührt die Zuschauer mit hyperrealistischen Bildern und der unendlichen Schönheit des Universums. Die Filmakademie Baden-Württemberg produzierte den VR-Film als Teil der VR Now Talent Initiative des Animationsinstituts. Gefördert wurde das Projekt vom Ministerium für Wissenschaft\, Forschung und Kunst Baden-Württemberg und von der MFG Filmförderung. \nWild Immersion Africa\nZusammen mit Flamingos über die Savanne fliegen oder einem Löwen hautnah in die Augen schauen? Wild Immersion nimmt die Zuschauer mit auf eine Reise durch den afrikanischen Kontinent und gibt einmalige Einblicke in die Welt der “Big Five”. Unterstützt von der internationalen Tier- und Umweltschutzorganisation Jane Goodall Institut entführt dieser 360°-Film seine Zuschauer mitten hinein in das größte Naturschutzgebiet Afrikas. \nKINOS UND TERMINE\n20.03. – 24.03. BERLIN: täglich zwei Vorstellungen 17:20 und 18:40\n27.03. – 31.03. KÖLN: täglich zwei Vorstellungen 17:20 und 18:40\n02.04. – 07.04. MÜNCHEN: täglich zwei Vorstellungen 17:20 und 18:40\n10.04. – 14.04. HAMBURG: täglich zwei Vorstellungen 17:00 und 18:30
URL:https://www.meetxr.de/event/magenta-virtual-reality-kinotour-hamburg/
LOCATION:zeise kinos\, Friedensallee 7-9\, Hamburg\, 22765\, Deutschland
CATEGORIES:play
ATTACH;FMTTYPE=image/jpeg:https://www.meetxr.de/wp-content/uploads/2019/03/2019-03-24_MagentaVRKinotour.jpg
END:VEVENT
END:VCALENDAR