BEGIN:VCALENDAR
VERSION:2.0
PRODID:-//meetXR - ECPv5.8.0//NONSGML v1.0//EN
CALSCALE:GREGORIAN
METHOD:PUBLISH
X-WR-CALNAME:meetXR
X-ORIGINAL-URL:https://www.meetxr.de
X-WR-CALDESC:Veranstaltungen für meetXR
BEGIN:VTIMEZONE
TZID:Europe/Berlin
BEGIN:DAYLIGHT
TZOFFSETFROM:+0100
TZOFFSETTO:+0200
TZNAME:CEST
DTSTART:20200329T010000
END:DAYLIGHT
BEGIN:STANDARD
TZOFFSETFROM:+0200
TZOFFSETTO:+0100
TZNAME:CET
DTSTART:20201025T010000
END:STANDARD
END:VTIMEZONE
BEGIN:VEVENT
DTSTART;TZID=Europe/Berlin:20200415T170000
DTEND;TZID=Europe/Berlin:20200415T183000
DTSTAMP:20260425T185437
CREATED:20200414T144007Z
LAST-MODIFIED:20200414T144007Z
UID:2518-1586970000-1586975400@www.meetxr.de
SUMMARY:Let’s go virtual: VR und AR in der Schule – Vision & Wirklichkeit
DESCRIPTION:Unterricht im virtuellen Klassenzimmer\, Hausaufgaben als virtuelle Erfahrung\, Augmented Reality Informationen im realen Klassenzimmer – Vision oder Wirklichkeit? Was geht schon? Was ist Zukunftsmusik? \nZielgruppe:\nLehrer*innen\, Eltern und Schüler*innen\, die sich Gedanken über den Einsatz von XR (VR/AR/MR) in der Schule machen\, reale Projektbeispiele kennenlernen und Zukunftsvisionen entwickeln möchten \nOrt:\nOnline Talkshow in Zoom\nhttps://zoom.us/webinar/register/WN_ee9X9rPoR9icMgBcmVjkuw \nTermin:\nMittwoch\, 15.04.2020\, 17.00 – 18.30 Uhr \nAgenda: \nVision oder Wirklichkeit? \nIn Corona-Zeiten wäre es einfach\, wenn jede*r Schüler*in sich in der Früh nach dem ganz normalen Stundenplan in ein virtuelles Klassenzimmer einloggen könnte und die Lehrkräfte ihre Stunden wie geplant abhalten könnten. \nDie Hausaufgaben könnten sehr viel Freude machen\, wenn die Schulbücher angereichert würden mit virtuellen Zusatzinformationen in Text\, Bild oder Videoformaten\, wenn zusätzlich zum Geschichtsbuch VR-Experiences die Schüler*innen in vergangene Zeiten versetzen und sie hautnah erleben lassen\, wie es z.B. im Mittelalter zuging\, wenn Games Vokabeln und anderes Erlerntes festigen etc. \nUnd nach der Corona Krise veranschaulichen Augmented Reality Inhalte den Lernstoff in den Klassen. \nVöllige Utopie? Was ist schon möglich? Was noch nicht? Welche Visionen haben die Medienpädagogischen Berater? Welche Schritte sind notwendig\, diese Visionen zu erreichen? Was können und sollen die Universitäten dazu beitragen? Welche Maßnahmen sind sonst noch erforderlich? \nDiese Fragen diskutieren \n– die Medienpädagogischen Berater digitale Bildung (mBdB):\n– Florian Kubiak für die Landkreise München und Ebersberg und\n– Ralf Loheit für die Landkreise Landsberg/Lech und Starnberg\n– Dr. Anita Stangl\, MedienLB – Medien für Lehrpläne und Bildungsstandards GmbH \n– von der Julius-Maximilians-Universität Würzburg\, Lehrstuhl für Human-Computer-Interaction (HCI):\n– Prof. Dr. Marc Erich Latoschik und\n– Dr. Sebastian Oberdörfer \nModeration: Wolfgang Kerler\, 1E9 Denkfabrik \nWir freuen uns auf viele Registrierungen & Teilnehmer*innen! 🙂 \nJetzt hier kostenfrei registrieren:\nhttps://zoom.us/webinar/register/WN_ee9X9rPoR9icMgBcmVjkuw \nÜber den XR HUB Bavaria:\nDer XR HUB Bavaria ist das XR-Kontakt-Netzwerk in Bayern mit dem Ziel\, den Austausch\, die Sichtbarkeit und den Marktzugang von XR-Unternehmen zu unterstützen sowie XR-Technologie und Inhalte Unternehmen und anderen interessierten Anwendern\, wie z.B. Schulen\, Bildungs- und Kultureinrichtungen\, zugänglich zu machen. \nHier ist der XR HUB Bavaria online zu finden:\nhttp://xrhub-bavaria.de/\nhttps://www.linkedin.com/company/xrhub-bavaria/\nhttps://www.facebook.com/xrhubbavaria/\nhttps://www.xing.com/companies/xrhubn%C3%BCrnberg (XR HUB Nürnberg – Teil des XR HUB Bavaria)\nhttps://twitter.com/XRHUB_Bavaria\nhttps://www.instagram.com/xrhub_bavaria/
URL:https://www.meetxr.de/event/lets-go-virtual-vr-und-ar-in-der-schule-vision-wirklichkeit/
LOCATION:Online Event\, online
CATEGORIES:talk
ATTACH;FMTTYPE=image/png:https://www.meetxr.de/wp-content/uploads/2020/04/2020-04-15_LetsGoVirtual.png
END:VEVENT
END:VCALENDAR