BEGIN:VCALENDAR
VERSION:2.0
PRODID:-//meetXR - ECPv5.8.0//NONSGML v1.0//EN
CALSCALE:GREGORIAN
METHOD:PUBLISH
X-WR-CALNAME:meetXR
X-ORIGINAL-URL:https://www.meetxr.de
X-WR-CALDESC:Veranstaltungen für meetXR
BEGIN:VTIMEZONE
TZID:Europe/Berlin
BEGIN:DAYLIGHT
TZOFFSETFROM:+0100
TZOFFSETTO:+0200
TZNAME:CEST
DTSTART:20190331T010000
END:DAYLIGHT
BEGIN:STANDARD
TZOFFSETFROM:+0200
TZOFFSETTO:+0100
TZNAME:CET
DTSTART:20191027T010000
END:STANDARD
END:VTIMEZONE
BEGIN:VEVENT
DTSTART;TZID=Europe/Berlin:20191009T090000
DTEND;TZID=Europe/Berlin:20191009T110000
DTSTAMP:20260425T224622
CREATED:20190929T181835Z
LAST-MODIFIED:20190929T181835Z
UID:1993-1570611600-1570618800@www.meetxr.de
SUMMARY:Lernen im virtuellen Raum: virtuelle und erweiterte Realität
DESCRIPTION:Vortrag + Frühstück über die Möglichkeiten von VR und AR im Bereich Bildung\nIn vielen Industrien ist eine umfassende Aus- und Weiterbildung der Fachkräfte – von der Ärztin bis zum Facharbeiter – essenziell für die Sicherheit der Belegschaft und auch der Gerätschaften. Simulatoren werden bisher nur in wenigen Branchen (Luftfahrt) benutzt um Fachkräfte auszubilden. Mit dem Aufkommen neuester VR- und AR- Technologien ergeben sich neue Lösungen für die Bereiche Bildung und Qualitätsmanagement. \nUm diese Technologien besser verstehen zu können\, zeigen wir Dir zwei Anwendungsbeispiele\, sowohl aus der virtuellen Realität (VR)\, als auch aus der erweiterten Realität (eng= augmented reality/AR). Die Unterschiede und Vorzüge der Technologien präsentieren Jonathan Natzel\, Gründer und Geschäftsführer der Weltenmacher GmbH und Christian Prison von codecentric.
URL:https://www.meetxr.de/event/lernen-im-virtuellen-raum-virtuelle-und-erweiterte-realitaet/
LOCATION:Probierwerk\, Stauffenbergstraße 14-20\, Leverkusen\, 51379\, Deutschland
CATEGORIES:talk
ATTACH;FMTTYPE=image/jpeg:https://www.meetxr.de/wp-content/uploads/2019/09/2019-10-09_LerneninVR.jpg
END:VEVENT
END:VCALENDAR