BEGIN:VCALENDAR
VERSION:2.0
PRODID:-//meetXR - ECPv5.8.0//NONSGML v1.0//EN
CALSCALE:GREGORIAN
METHOD:PUBLISH
X-WR-CALNAME:meetXR
X-ORIGINAL-URL:https://www.meetxr.de
X-WR-CALDESC:Veranstaltungen für meetXR
BEGIN:VTIMEZONE
TZID:Europe/Berlin
BEGIN:DAYLIGHT
TZOFFSETFROM:+0100
TZOFFSETTO:+0200
TZNAME:CEST
DTSTART:20210328T010000
END:DAYLIGHT
BEGIN:STANDARD
TZOFFSETFROM:+0200
TZOFFSETTO:+0100
TZNAME:CET
DTSTART:20211031T010000
END:STANDARD
END:VTIMEZONE
BEGIN:VEVENT
DTSTART;VALUE=DATE:20210707
DTEND;VALUE=DATE:20210711
DTSTAMP:20260425T183913
CREATED:20210305T145526Z
LAST-MODIFIED:20210305T145526Z
UID:2877-1625626800-1625885999@www.meetxr.de
SUMMARY:Laval Virtual Europe
DESCRIPTION:Physical…\nAn event at the heart of Laval \nEvery year since 20+ years\, the town of Laval (Mayenne\, France)\, has become the capital of virtual and augmented reality. During 3 days\, all the major VR/AR players gather at Laval Virtual. It’s a wonderful opportunity to discover and meet 300+ exhibitors of the VR/AR field. The exhibition invites renowned speakers from 50 countries to take part in the rich and visionary programme of the 4 conference cycles. Let’s meet on 7-9th July 2021 for the 23rd edition! \n& virtual…\nAn augmented 23rd edition \nFor its 23rd edition\, Laval Virtual has decided to organize the first hybrid event. Building on the success of its virtual edition in 2020 in the Laval Virtual World\, the Laval Virtual exhibition to be held from 7th to 9th July 2021 will be both physical and virtual. Create your avatar and join the 18\,000 visitors from all over the world to attend conferences\, networking moments and the Laval Virtual Awards ceremony!
URL:https://www.meetxr.de/event/laval-virtual-europe/
LOCATION:Online Event\, online
CATEGORIES:play,talk
ATTACH;FMTTYPE=image/jpeg:https://www.meetxr.de/wp-content/uploads/2021/03/202107-07_LavalVrtual.jpg
END:VEVENT
END:VCALENDAR