BEGIN:VCALENDAR
VERSION:2.0
PRODID:-//meetXR - ECPv5.8.0//NONSGML v1.0//EN
CALSCALE:GREGORIAN
METHOD:PUBLISH
X-WR-CALNAME:meetXR
X-ORIGINAL-URL:https://www.meetxr.de
X-WR-CALDESC:Veranstaltungen für meetXR
BEGIN:VTIMEZONE
TZID:Europe/Berlin
BEGIN:DAYLIGHT
TZOFFSETFROM:+0100
TZOFFSETTO:+0200
TZNAME:CEST
DTSTART:20220327T010000
END:DAYLIGHT
BEGIN:STANDARD
TZOFFSETFROM:+0200
TZOFFSETTO:+0100
TZNAME:CET
DTSTART:20221030T010000
END:STANDARD
END:VTIMEZONE
BEGIN:VEVENT
DTSTART;VALUE=DATE:20220412
DTEND;VALUE=DATE:20220416
DTSTAMP:20260425T155050
CREATED:20210305T145526Z
LAST-MODIFIED:20220113T163330Z
UID:3430-1649732400-1649991599@www.meetxr.de
SUMMARY:Laval Virtual Europe 2022
DESCRIPTION:Laval Virtual\, international exhibition on virtual reality\, augmented reality and immersive technologies\, is coming back next year for its 24th edition. Save the date right now: on April 12-14\, 2022\, the international VR/AR community will meet again. Until the next edition of the event in 2022\, you can rediscover the projects awarded at the Laval Virtual Award or watch the conferences online.
URL:https://www.meetxr.de/event/laval-virtual-europe-2022/
LOCATION:Online Event\, online
CATEGORIES:play,talk
ATTACH;FMTTYPE=image/png:https://www.meetxr.de/wp-content/uploads/2021/03/2022-04-12_LavalVirtualEurope2022.png
END:VEVENT
END:VCALENDAR