BEGIN:VCALENDAR
VERSION:2.0
PRODID:-//meetXR - ECPv5.8.0//NONSGML v1.0//EN
CALSCALE:GREGORIAN
METHOD:PUBLISH
X-WR-CALNAME:meetXR
X-ORIGINAL-URL:https://www.meetxr.de
X-WR-CALDESC:Veranstaltungen für meetXR
BEGIN:VTIMEZONE
TZID:Europe/Berlin
BEGIN:DAYLIGHT
TZOFFSETFROM:+0100
TZOFFSETTO:+0200
TZNAME:CEST
DTSTART:20200329T010000
END:DAYLIGHT
BEGIN:STANDARD
TZOFFSETFROM:+0200
TZOFFSETTO:+0100
TZNAME:CET
DTSTART:20201025T010000
END:STANDARD
END:VTIMEZONE
BEGIN:VEVENT
DTSTART;TZID=Europe/Berlin:20200616T193000
DTEND;TZID=Europe/Berlin:20200616T233000
DTSTAMP:20260425T183341
CREATED:20200610T164623Z
LAST-MODIFIED:20200610T164623Z
UID:2657-1592335800-1592350200@www.meetxr.de
SUMMARY:Laval Virtual Days: Emerging Worlds
DESCRIPTION:Emerging Worlds\n„Nothing is permanent except change“ – Heraclitus \nIn recent months\, a constant has changed: our lifestyles and work are to be reinvented.\nAlternative solutions become perennial solutions. Virtuality becomes inevitable. \nCome and understand how. Enter the new worlds. \nA virtual event to inspire and gather which will take place in the Laval Virtual World! \nProgram\n19:30 – 20:00\nWelcome\nIn the Laval Virtual World \n20:00 – 20:10\nThe Phoenix : Accelerating transformation through adversity\nIntroduction by Laurent CHRÉTIEN\, CEO\, Laval Virtual \n20:10 -20:30\nEngaging your community in alternative ways\nLecture by Andrey LUNEV\, Community Activist\, XR Crowd \n20:30 – 20:45\nHacking remote working platforms\, how we did it?\nInterview between Alex HOWLAND\, President\, VirBELA and Harriet BARTLETT\, Head of Community Relations\, Laval Virtual \n20:45 – 20:55\nHow a virtual world is empowering a real industry\nNowadays\, every industry is facing the same challenge. Virtual world is a way to make remote collaboration more human and empower every organization to achieve more. Use Case by Othman CHIHEB\, Product Marketing Lead – HoloLens\, Microsoft \n20:55 – 21:05\nUse Case\nBy Kent BYE\, Producer\, Voices of VR Podcast \n21:05 – 21:20\nInception : virtual artworks in virtual spaces\nRecto VRso is an international festival of art and virtual reality\, taking place alongside the Laval Virtual exhibition. Founded by artist-researcher Judith Guez\, Recto VRso aims to invite artists who question virtual reality as a medium\, intending to bring out new artistic forms. The 2020 edition had to be virtualized\, exploring new ways to present interactive and immersive artworks in virtual spaces. Lecture by Judith GUEZ\, Founder | Director RectoVRso Festival \n21:20 – 21:40\nDown the rabbit hole : emerging worlds & new horizons\nVision Panel with Asha EASTON\, Head of Immerse UK ; Liudmila BREDIKHINA\, University of Geneva : Kent BYE\, Producer of Voices of VR Podcast \n21:40 – 21:50\nLaval Virtual World\, what’s next?\nLecture by Valentin RÉGNIER\, Community Relations Manager\, Laval Virtual \n21:50 – 22:00\nConclusion\nBy Laurent CHRÉTIEN\, CEO\, Laval Virtual \n22:00 – 23:30\nNetworking\nBeach
URL:https://www.meetxr.de/event/laval-virtual-days-emerging-worlds/
LOCATION:Online Event\, online
CATEGORIES:talk
ATTACH;FMTTYPE=image/jpeg:https://www.meetxr.de/wp-content/uploads/2020/06/2020-06-16_LavalVirtualDays.jpg
END:VEVENT
END:VCALENDAR