BEGIN:VCALENDAR
VERSION:2.0
PRODID:-//meetXR - ECPv5.8.0//NONSGML v1.0//EN
CALSCALE:GREGORIAN
METHOD:PUBLISH
X-WR-CALNAME:meetXR
X-ORIGINAL-URL:https://www.meetxr.de
X-WR-CALDESC:Veranstaltungen für meetXR
BEGIN:VTIMEZONE
TZID:Europe/Berlin
BEGIN:DAYLIGHT
TZOFFSETFROM:+0100
TZOFFSETTO:+0200
TZNAME:CEST
DTSTART:20200329T010000
END:DAYLIGHT
BEGIN:STANDARD
TZOFFSETFROM:+0200
TZOFFSETTO:+0100
TZNAME:CET
DTSTART:20201025T010000
END:STANDARD
END:VTIMEZONE
BEGIN:VEVENT
DTSTART;TZID=Europe/Berlin:20201130T180000
DTEND;TZID=Europe/Berlin:20201130T200000
DTSTAMP:20260425T201706
CREATED:20201124T205437Z
LAST-MODIFIED:20201124T205437Z
UID:2774-1606759200-1606766400@www.meetxr.de
SUMMARY:Last Minute Design Talk & VR Freie Kunst - Refrakt
DESCRIPTION:Refrakt – Building Castles in the Cloud\nVortragsreihe / 30.11.2020 \nRefrakt\, das Kollektiv und Berliner Studio für Kunst und Design ist zu Gast im Auditorium des Fachbereich Kunst und Design im Speicher XI. Alexander Govoni und Carla Streckwall alias Refrakt sind seit 2014 in den Bereichen Augmented Reality\, digitale Ausstellungsgestaltung und Editorial Design tätig. In den freien künstlerischen sowie den angewandten Arbeiten spielt die Verknüpfung digitaler und analoger Realitäten und Medien stets eine zentrale Rolle. Ihre multimedialen Installationen wurden in mehreren internationalen Ausstellungen gezeigt. https://refrakt.org/ @refraktapp \nThe talk BUILDING CASTLES IN THE CLOUD is highly recommended for students from fine arts as well as digital media and integrated design studies.\nThe Last Minute Design Talks present interdisciplinary contemporary positions in Design — curated and organized by Prof. Andrea Rauschenbusch\, visual communication\, integrated design/HfK. \nVortrag: 30.11.2020\, 18 Uhr\nAuditorium\, Speicher XI 8\, 28217 Bremen (Nur für HfK Interne. Anmeldung erforderlich) Unter: https://tinyurl.com/yxqqfj2g (Bitte die Beschreibung durchlesen – Auf 25 Plätze limitiert.)\nOder online auf: https://vimeo.com/482707635 \nWorkshop (nur für HfK Interne) Informationen und Anmeldung unter: a.rauschenbusch@hfk-bremen.de
URL:https://www.meetxr.de/event/last-minute-design-talk-vr-freie-kunst-refrakt/
LOCATION:Hochschule für Künste Bremen\, Am Speicher XI 8\, Bremen\, 28217\, Deutschland
CATEGORIES:talk
ATTACH;FMTTYPE=image/jpeg:https://www.meetxr.de/wp-content/uploads/2020/11/2020-11-30_Refrakt.jpg
ORGANIZER;CN="Hochschule%20f%C3%BCr%20K%C3%BCnste%20Bremen":MAILTO:pressestelle@hfk-bremen.de
END:VEVENT
END:VCALENDAR