BEGIN:VCALENDAR
VERSION:2.0
PRODID:-//meetXR - ECPv5.8.0//NONSGML v1.0//EN
CALSCALE:GREGORIAN
METHOD:PUBLISH
X-WR-CALNAME:meetXR
X-ORIGINAL-URL:https://www.meetxr.de
X-WR-CALDESC:Veranstaltungen für meetXR
BEGIN:VTIMEZONE
TZID:Europe/Berlin
BEGIN:DAYLIGHT
TZOFFSETFROM:+0100
TZOFFSETTO:+0200
TZNAME:CEST
DTSTART:20190331T010000
END:DAYLIGHT
BEGIN:STANDARD
TZOFFSETFROM:+0200
TZOFFSETTO:+0100
TZNAME:CET
DTSTART:20191027T010000
END:STANDARD
END:VTIMEZONE
BEGIN:VEVENT
DTSTART;VALUE=DATE:20190403
DTEND;VALUE=DATE:20190409
DTSTAMP:20260425T183735
CREATED:20190227T225137Z
LAST-MODIFIED:20190227T225137Z
UID:1291-1554260400-1554692399@www.meetxr.de
SUMMARY:KURZSUECHTIG Festival
DESCRIPTION:DAS FESTIVAL\nKURZSUECHTIG – DAS IST LEIPZIGS GRÖSSTES UND EINZIGES KURZFILMFESTIVAL FÜR GANZ MITTELDEUTSCHLAND \nWIR FREUEN UNS AUF SPANNENDE FESTIVALTAGE UND LADEN FILMSCHAFFENDE UND FILMBEGEISTERTE ZUM ENTDECKEN\, DISKUTIEREN\, NETZWERKEN UND FEIERN EIN!\nIm Jahr 2004 gestartet\, gehört KURZSUECHTIG mit seiner Fünf-Sparten-Ausrichtung und seinem Fokus auf mitteldeutsche Kurzfilmproduktionen mittlerweile zu einem festen Bestandteil der Leipziger Kulturszene. Filmbegeisterte erleben an fünf Abenden ein spannendes Film- und Wettbewerbsprogramm – zusammengestellt aus über 100 aktuellen Einreichungen aus den Bereichen Animation\, Dok\, Fiktion\, Experimental und Filmmusik & Sounddesign. \nDas Festival hat sich seit 2017 zudem um ein Rahmenprogramm erweitert\, in dem es Podiumsgespräche zu aktuellen Themen sowie ein Gastland (dieses Jahr Spanien) mit filmischen Kurzbeiträgen präsentiert. KURZSUECHITG baut damit kontinuierlich das Netzwerk sowie fortbildende Programmpunkte für Filmemacher/innen in der mitteldeutschen Filmbranche aus. Im Jahr 2019 findet das Festival nun schon zum 16. Mal statt. \n  \nIm Programm findet ihr den Wettbewerb Local VR Hero und Workshops zu 360° und VR
URL:https://www.meetxr.de/event/kurzsuechtig-festival/
LOCATION:Kunstkraftwerk\, Saalfelder Strasse 8b\, Leipzig\, 04179\, Deutschland
CATEGORIES:play
ATTACH;FMTTYPE=image/jpeg:https://www.meetxr.de/wp-content/uploads/2019/02/2019-04-07_Kurzsuechtig.jpg
ORGANIZER;CN="Kurzsuechtig":MAILTO:info@kurzsuechtig.de
END:VEVENT
END:VCALENDAR