BEGIN:VCALENDAR
VERSION:2.0
PRODID:-//meetXR - ECPv5.8.0//NONSGML v1.0//EN
CALSCALE:GREGORIAN
METHOD:PUBLISH
X-WR-CALNAME:meetXR
X-ORIGINAL-URL:https://www.meetxr.de
X-WR-CALDESC:Veranstaltungen für meetXR
BEGIN:VTIMEZONE
TZID:Europe/Berlin
BEGIN:DAYLIGHT
TZOFFSETFROM:+0100
TZOFFSETTO:+0200
TZNAME:CEST
DTSTART:20210328T010000
END:DAYLIGHT
BEGIN:STANDARD
TZOFFSETFROM:+0200
TZOFFSETTO:+0100
TZNAME:CET
DTSTART:20211031T010000
END:STANDARD
END:VTIMEZONE
BEGIN:VEVENT
DTSTART;TZID=Europe/Berlin:20210604T100000
DTEND;TZID=Europe/Berlin:20210604T163000
DTSTAMP:20260425T212958
CREATED:20210502T134641Z
LAST-MODIFIED:20210502T134929Z
UID:3014-1622800800-1622824200@www.meetxr.de
SUMMARY:Körper und Embodiment in Virtual Reality: XR Workshop
DESCRIPTION:Körper und Embodiment in Virtual Reality:\nKunst – Praxis – Technologie | 03.–04.06.2021\nUnser virtuelles XR Art & Networking-Event am 03./04. Juni 2021 ist eine Info- und Vernetzungsveranstaltung für Kunst- und Kulturschaffende der freien Szene zum Thema des aktuellen OPEN CALL in Verbindung mit einem praxisorientierten Workshop via ZOOM. Aber Embodiment – was ist das eigentlich? Welche Rolle spielt es in Kunst und Informatik? Und durch welche Tools kann Embodiment erzeugt werden – was führt hingegen zu Disembodiment? \nXR-Workshop | 04.06.2021 | 10–14h (Timeslots) und 15–16.30h\nBei diesem Kurs bekommt Ihr die Möglichkeit\, kontaktlos eine VR-Brille auszuleihen und in die künstlerische VR-Arbeit Here we are – A Touring Torture (2018) von The Swan Collective einzutauchen\, bei der Embodiment eine wesentliche Rolle spielt. Die Anleitung erfolgt per ZOOM. Timeslots und Infos zum Ablauf schicken wir Euch nach der Anmeldung zu. \nDanach gibt es in großer Runde per ZOOM einen technischen Input zu VR und Embodiment unseres Informatikers Christoph Holtmann sowie die Möglichkeit\, Eure eigenen Ideen vorzustellen\, Euch rund um XR\, Kunst und Kultur auszutauschen und zu vernetzen. \nAufgrund der Förderung durch den Europäischen Fonds für regionale Entwicklung und der begrenzten Teilnehmer*innen-Zahl richtet sich der ZOOM-Workshop am 04.06.21 vornehmlich an Kunst- und Kulturschaffende mit Lebensmittelpunkt in Berlin. \n>> Anmeldung
URL:https://www.meetxr.de/event/koerper-und-embodiment-in-virtual-reality-xr-workshop/
LOCATION:Zoom Meeting\, Zoom
CATEGORIES:hack,talk
ATTACH;FMTTYPE=image/png:https://www.meetxr.de/wp-content/uploads/2021/05/2021-06-04_XRWorkshop.png
END:VEVENT
END:VCALENDAR