BEGIN:VCALENDAR
VERSION:2.0
PRODID:-//meetXR - ECPv5.8.0//NONSGML v1.0//EN
CALSCALE:GREGORIAN
METHOD:PUBLISH
X-WR-CALNAME:meetXR
X-ORIGINAL-URL:https://www.meetxr.de
X-WR-CALDESC:Veranstaltungen für meetXR
BEGIN:VTIMEZONE
TZID:Europe/Berlin
BEGIN:DAYLIGHT
TZOFFSETFROM:+0100
TZOFFSETTO:+0200
TZNAME:CEST
DTSTART:20210328T010000
END:DAYLIGHT
BEGIN:STANDARD
TZOFFSETFROM:+0200
TZOFFSETTO:+0100
TZNAME:CET
DTSTART:20211031T010000
END:STANDARD
END:VTIMEZONE
BEGIN:VEVENT
DTSTART;TZID=Europe/Berlin:20210603T180000
DTEND;TZID=Europe/Berlin:20210603T193000
DTSTAMP:20260425T213119
CREATED:20210502T134641Z
LAST-MODIFIED:20210502T134641Z
UID:3007-1622743200-1622748600@www.meetxr.de
SUMMARY:Körper und Embodiment in Virtual Reality: XR/T/alks
DESCRIPTION:Körper und Embodiment in Virtual Reality:\nKunst – Praxis – Technologie | 03.–04.06.2021\nUnser virtuelles XR Art & Networking-Event am 03./04. Juni 2021 ist eine Info- und Vernetzungsveranstaltung für Kunst- und Kulturschaffende der freien Szene zum Thema des aktuellen OPEN CALL in Verbindung mit einem praxisorientierten Workshop via ZOOM. Aber Embodiment – was ist das eigentlich? Welche Rolle spielt es in Kunst und Informatik? Und durch welche Tools kann Embodiment erzeugt werden – was führt hingegen zu Disembodiment? \nXR/T/alks | 03.06.2021 | 18–19.30h\nIn diesem ZOOM-Format bieten wir Euch eine Einführung zum Konzept von Embodiment in Kunst und Informatik von Maja Stark und anschließend zwei Impulse von VR-Spezialistinnen: \nDie Tänzerin und Choreografin Carly Lave geht der Frage nach\, wie Tanz über Embodiment in die virtuelle Welt kommt\, und berichtet über Grenzen und Möglichkeiten des Tools Motion Capturing. \nDie studierte Philosophin und Kulturwissenschaftlerin Prof. Melissa de Raaf von der Kunsthochschule für Medien (KHM) Köln hinterfragt Virtual Reality kritisch in Hinblick auf das gern genutzte Potenzial der Technologie zur Empathie-Erzeugung. \nVortragssprache wird Englisch sein – den ZOOM-Link versenden wir nach der Anmeldung. \n>> Mehr Infos zu den Talks und Referentinnen
URL:https://www.meetxr.de/event/koerper-und-embodiment-in-virtual-reality-xr-t-alks/
LOCATION:Zoom Meeting\, Zoom
CATEGORIES:talk
ATTACH;FMTTYPE=image/jpeg:https://www.meetxr.de/wp-content/uploads/2021/05/2021-06-03_XRUnites.jpg
END:VEVENT
END:VCALENDAR