BEGIN:VCALENDAR
VERSION:2.0
PRODID:-//meetXR - ECPv5.8.0//NONSGML v1.0//EN
CALSCALE:GREGORIAN
METHOD:PUBLISH
X-WR-CALNAME:meetXR
X-ORIGINAL-URL:https://www.meetxr.de
X-WR-CALDESC:Veranstaltungen für meetXR
BEGIN:VTIMEZONE
TZID:Europe/Berlin
BEGIN:DAYLIGHT
TZOFFSETFROM:+0100
TZOFFSETTO:+0200
TZNAME:CEST
DTSTART:20210328T010000
END:DAYLIGHT
BEGIN:STANDARD
TZOFFSETFROM:+0200
TZOFFSETTO:+0100
TZNAME:CET
DTSTART:20211031T010000
END:STANDARD
END:VTIMEZONE
BEGIN:VEVENT
DTSTART;TZID=Europe/Berlin:20210512T183000
DTEND;TZID=Europe/Berlin:20210512T193000
DTSTAMP:20260426T001049
CREATED:20210502T130409Z
LAST-MODIFIED:20210506T162616Z
UID:3022-1620844200-1620847800@www.meetxr.de
SUMMARY:In VR we trust: Crossing sensations
DESCRIPTION:Dani Ploegers Arbeit The Grass Smells So Sweet bietet einen exzellenten Ausgangspunkt um mit ihm und unseren Gästen\, der Kuratorin und Kunsthistorikerin Johanna Neuschäffer und dem Galeristen und Experten für digitale Kunst Wolf Lieser\, über die Rolle des Außenraums für VR und mediale Repräsentationslogiken zu sprechen. Welche räumlichen und medialen Relationen gibt es zwischen ›innen‹ und ›außen‹? Welche Erwartungshaltungen gibt es an das Medium VR selbst und wie kann mit diesen Erwartungen künstlerisch umgegangen werden? \nGäste: Dani Ploeger (Künstler)\, Johanna Neuschäffer (office impart)\, Wolf Lieser (DAM Projects) \nIn VR we trust\nEin experimentelles Online-Ausstellungsformat mit VR-Kunstwerken von Dani Ploeger\, Elena Romenkova\, Robin Koetzle und Matias Brunacci \nWillst Du auch mitfahren auf dem Virtual-Reality-Hypetrain? Träumst du von einer Mischung aus *pew-pew* Special Effects und empathisierenden\, euphorisierenden Erfahrungen? Glaubst du an VR? Glaubst du an Immersion? Glaubst du an den Durchbruch\, den VR als neues Medium in unserer Gesellschaft haben wird? \nDie Ausstellung will anhand von vier kritischen Positionen den aktuellen Stand und zukünftigen Wert von Virtual Reality als künstlerischem Werkzeug oder Medium reflektieren und zugleich eine öffentliche Diskussion darüber ermöglichen. \nDurch die Auswirkungen der Pandemie und die unsichere Situation für Besucher:innen der Ausstellung\, haben wir uns entschieden die Ausstellung nicht in den geplanten Räumlichkeiten in Düsseldorf und Zeitz stattfinden zu lassen. Stattdessen eröffnet am 5. Mai 2021 eine postalisch-virtuelle Adaption. Interessierte können eines der limitierten Cardboards zu sich nach Hause bestellen um die Ausstellung zu sehen! \nAusgehend von den vier Kunstwerken wird es am 11. & 12. Mai jeweils 18:30 Uhr und 20 Uhr vier Online-Talks mit den Künstler:innen und Expert:innen geben – save the date! Die Links dazu werden zeitnah auf der Ausstellungsseite veröffentlicht. \nIn VR we trust\nkuratiert von Clemens Schöll & Daniel Hengst\nein Projekt von THIS IS FAKE\nin Kooperation mit plusnull e.V.\nkonzipiert für NRW Forum\, Düsseldorf und Nudel\, Zeitz\njetzt per Post und Internet\nunterstützt von der E.ON Stiftung\nOpen Call & Ko-Kurationsprozess auf nextmuseum.io \nAuf unserer Website https://trust.invr.info/ kann das Cardboard bestellt werden und es finden sich hier Interviews mit den Künstler:innen sowie anderen Personen aus dem Bereich von VR & Kunst. \nBestellung der Cardboards auf https://trust.invr.info/#order ab 20.04.2021\nEröffnung der Online-Ausstellung am 05.05.2021\nTalks mit den Künstler:innen & Expert:innen am 11 .05. und 12.05.2021
URL:https://www.meetxr.de/event/in-vr-we-trust-crossing-sensations/
LOCATION:Online Event\, online
CATEGORIES:talk
ATTACH;FMTTYPE=image/jpeg:https://www.meetxr.de/wp-content/uploads/2021/05/daniploeger_thegrasssmellssoswett-1.jpg
END:VEVENT
END:VCALENDAR