BEGIN:VCALENDAR
VERSION:2.0
PRODID:-//meetXR - ECPv5.8.0//NONSGML v1.0//EN
CALSCALE:GREGORIAN
METHOD:PUBLISH
X-WR-CALNAME:meetXR
X-ORIGINAL-URL:https://www.meetxr.de
X-WR-CALDESC:Veranstaltungen für meetXR
BEGIN:VTIMEZONE
TZID:Europe/Berlin
BEGIN:DAYLIGHT
TZOFFSETFROM:+0100
TZOFFSETTO:+0200
TZNAME:CEST
DTSTART:20180325T010000
END:DAYLIGHT
BEGIN:STANDARD
TZOFFSETFROM:+0200
TZOFFSETTO:+0100
TZNAME:CET
DTSTART:20181028T010000
END:STANDARD
END:VTIMEZONE
BEGIN:VEVENT
DTSTART;TZID=Europe/Berlin:20181004T140000
DTEND;TZID=Europe/Berlin:20181004T170000
DTSTAMP:20260425T224621
CREATED:20180917T103849Z
LAST-MODIFIED:20180917T104046Z
UID:684-1538661600-1538672400@www.meetxr.de
SUMMARY:IMMERSIVE ARTS – Digitale Wege für die Wissensvermittlung in Museen & Ausstellungen
DESCRIPTION:Die Veranstaltung findet am 04. Oktober 2018\, von 14 – 17 Uhr statt. Bitte melden Sie sich bequem über das + Anmeldeformular an. Veranstaltungsort ist das Auditorium im + Technologiezentrum St. Georgen. \nINTRO\nOb die Biennale in Venedig\, das Atelier des Lumières in Paris oder das Digital Art Musuem in Tokio – neue Museums- und Ausstellungskonzepte sind von der Digitalisierung geprägt. Max Hollein schreibt dazu in einem Blog: „ …für die Kunstwelt ist Virtual Reality die interessanteste neue Entwicklungszone. Ganz abgesehen davon bietet die digital erweiterte und virtuelle Realität den Museen neue\, spektakuläre und hochsuggestive Möglichkeiten\, reale Objekte zu präsentieren und in kunsthistorische oder gesellschaftliche Zusammenhänge zu stellen. Hier entsteht ein neues Land der unendlichen Möglichkeiten im virtuellen Raum und eine große Herausforderung für umfassende Zusammenarbeit zwischen Künstlern\, Kulturinstitutionen und Technikunternehmen.“ \nDas VDC TZ Meetup am 4. Oktober 2018 stellt Ihnen in Experten-Vorträgen und Live-Demos unterschiedliche Best Practice Beispiele vor und diskutiert Ziele\, Wege und Nutzen für die diversen Arten und Möglichkeiten von Museumseinrichtungen. \nAGENDA\n14:00 Uhr\nBegrüßung und Moderation\nMartin Zimmermann\, Vorstand\, Virtual Dimension Center TZ St. Georgen \n14:15 Uhr\nMIXED REALITIES – Das reale und virtuelle Ausstellungsprojekt im + Kunstmuseum Stuttgart\nDr. Eva-Marina Froitzheim\, Kuratorin Kunstmuseum Stuttgart \nAls erste museale Einrichtung in der Innovations- und Technologie-Region Stuttgart präsentierte das Kunstmuseum Stuttgart sechs Künstler\, die sowohl mit analogen als  auch mit digitalen Verfahren arbeiten und gleichermaßen Elemente der physisch-realen sowie der virtuellen Welt verwenden. Den Besuchern der Ausstellung wurde vermittelt\, wie Kunst und Technik enger zusammenrücken und in einen Dialog treten. Insbesondere AR und VR haben ein künstlerisches Potenzial\, das gerade erst erkannt wird und nicht auch nur annähernd ausgeschöpft ist. \n14:45 Uhr\nKulturgut Fasnacht digital – Die Intitiative im Rahmen des BKM-Förderprojektes + „museum 4punkt0“\nDr. Sabine Dietzig-Schicht\, Narrenschopf Bad Dürrheim\, BKM-Projekt „museum4punkt0“ \nDas Projekt „museum4punkt0“ verbindet bundesweit sechs deutsche Kultur-Einrichtungen von unterschiedlicher Größe und institutionellem Profil\, um neue Formen der Kommunikation\, Partizipation\, Bildung und Vermittlung in Museen zu ermöglichen. Gesucht wird nach neuen Wegen\, um in Austausch mit den Besuchern zu treten\, individualisierte Angebote für sie zu entwickeln und zusätzliche Zielgruppen anzusprechen. Der Vortrag stellt am Teilprojekt „FASTNACHT IM VIRTUELLEN RAUM“ vor\, wie AR\, VR\, 360° Filme oder 3D-Modellierungen dabei eine Rolle spielen können. \n15:15 Uhr\nKaffeepause und kleiner Imbiss | Möglichkeit verschiedene Exponate (AR\, MR\, VR) individuell zu testen. \n15:45 Uhr\n„Neue Welten auftun“ – Digitale Einblicke hinter die Kulissen des + Senckenberg Museum \nDr. Jens Wesenberg\, Teilprojektkoordinator “museum4punkt0”\, Senckenberg Museum für Naturkunde Görlitz (SMNG) \nMit der Förderung aus dem Projekt museum4punkt0 will das SMNG naturkundliche Inhalte und ganz speziell die Forschung sowie die wissenschaftlichen Sammlungen des Naturkundemuseums zeitgemäß einem breiten Publikum näher bringen. Digitale Innovationen und Vermittlungsformen eröffnen dafür zahlreiche Möglichkeiten\, die aber auch mit vielen Herausforderungen verbunden sind. Der Vortrag präsentiert und diskutiert erste Umsetzungskonzepte und -erfahrungen des Museums mit einem speziellen Fokus auf den Bereich der VR. \n16:15 Uhr\nExtended Reality (XR) for Audience Development – Mit digital ergänzten Exponaten und Formaten neue Zielgruppen für Museen erschließen\nJakob Wawer\, XR Art Director\, + imsimity GmbH \nAn Beispielen für den Bereich Bildung und Vermittlung in Naturkunde- oder Heimatmuseen erörtert dieser Beitrag konzeptionelle Ideen und Strategien für s.g. „Extended Reality (XR) Guides“. Mit digital erweiterten Ausstellungen können sich die interessierten Besucher auf eine Zeitreise durch die Geschichte begeben\, die durch virtuelle Erfahrungswelten begeistert. Unsichtbares wird digital sichtbar gemacht und erzielt eine einprägende\, nachhaltige Wirkung für eine neue Besucherschar. \n16:45 Uhr\nAbschließende Diskussion | Möglichkeit verschiedene Exponate (AR\, MR\, VR) individuell zu testen. \nANMELDUNG\nMelden Sie sich bequem über das + Anmeldeformular an. Die Teilnahmegebühr beträgt 50€ zzgl. MwSt. \nFür Studenten und Schüler  sowie VDC Mitglieder ist die Veranstaltung kostenfrei. Kontaktieren Sie uns gerne\, wenn Sie Fragen haben\, per + E-Mail oder unter Telefon +49 (0) 7724 94 94 33. \n  \nDetails finden Sie auch im + Flyer zur Veranstaltung am 4.10.18. \nWir freuen uns auf Ihren Besuch im digitalen Schwarzwald.
URL:https://www.meetxr.de/event/immersive-arts-digitale-wege-fuer-die-wissensvermittlung-in-museen-ausstellungen/
LOCATION:Technologiezentrum St. Georgen\, Leopoldstraße 1\, St. Georgen\, 78112\, Deutschland
CATEGORIES:talk
ATTACH;FMTTYPE=image/jpeg:https://www.meetxr.de/wp-content/uploads/2018/09/2018-10-04_VDCTZ-VRMuseum.jpg
ORGANIZER;CN="Virtual%20Dimension%20Center%20TZ%20St.%20Georgen":MAILTO:kontakt@vdc-tz-stgeorgen.de
END:VEVENT
END:VCALENDAR