BEGIN:VCALENDAR
VERSION:2.0
PRODID:-//meetXR - ECPv5.8.0//NONSGML v1.0//EN
CALSCALE:GREGORIAN
METHOD:PUBLISH
X-WR-CALNAME:meetXR
X-ORIGINAL-URL:https://www.meetxr.de
X-WR-CALDESC:Veranstaltungen für meetXR
BEGIN:VTIMEZONE
TZID:Europe/Berlin
BEGIN:DAYLIGHT
TZOFFSETFROM:+0100
TZOFFSETTO:+0200
TZNAME:CEST
DTSTART:20230326T010000
END:DAYLIGHT
BEGIN:STANDARD
TZOFFSETFROM:+0200
TZOFFSETTO:+0100
TZNAME:CET
DTSTART:20231029T010000
END:STANDARD
END:VTIMEZONE
BEGIN:VEVENT
DTSTART;TZID=Europe/Berlin:20230814T170000
DTEND;TZID=Europe/Berlin:20230814T213000
DTSTAMP:20260425T183258
CREATED:20230811T084328Z
LAST-MODIFIED:20230811T084328Z
UID:9341-1692032400-1692048600@www.meetxr.de
SUMMARY:IG - Unity Developers Hangout #1 {Spatial Computing & AI & Metaverse}
DESCRIPTION:Hey Metaverse & tech-lovers ❤️\nour next Tech and Developers Hangout is already around the corner! Dive into Unity’s latest in #SpatialComputing and #AI tech 🚀.\nJoin us in the creative hub of Berlin\, Germany 🇩🇪 at #IgnoreGravity.\nThis gathering is THE #techmeetup for artists 🎨\, game developers 🎮\, and tech enthusiasts 🤖. \nConnect\, engage\, and explore the mesmerizing world of #Unity3D.\nWe’re thrilled to host Esteban Cabán\, the Sr. Developer Advocate for Multiplayer Solutions at #UnityTechnologies 🚀. \nEsteban is coming in from Seattle to Berlin to share his #UnityDev ranging from Multiplayer game services to VisionPro\nGet ready for a line-up of #XR and #AI leaders from Germany and beyond 🌍. They’ll share best practices from their projects\, showing off Unity’s pioneering spirit. Stay tuned for more speaker announcements! 🎙️ \nAt the event\, you’ll get to: \n\nNetwork with #XR and #MR experts 🤝\nUncover groundbreaking #UnityProjects 🕹️\nShare and learn from #UnityDevelopers 👩‍💻👨‍💻\nTest out cutting-edge demos 🕶️\nAnd so much more!\n\nBut wait\, there’s more! We’ve got #PizzaAndDrinks 🍕🥤 and an exhilarating „#MixedReality PlaySpace“ 🎉. Experience the power of XR first-hand and immerse yourself in the extraordinary world of mixed reality. \n\n17:00 Networking and CheckIn\n17:20 Opening and Welcome – ignore gravity’s new venture into Spatial Computing DLD Announcement\nZaid Zaim & Leonie Moos\, ignore gravity\n17:40 Unity Updates for the Community\nEsteban Maldonado\, Unity\n18:15 Group Picture\n18:20 Microsoft’s Industrial Metaverse\nMariano Mailos\, Microsoft\n18:40 How to Become an XR Developer and What Mistakes to Avoid\nDinesh Punni\, Immersive Insiders\n19:00 Break\, Food\, Networking – Nico Uthe – Laser Limbo – A Mixed Reality Battle Game\n19:25 XR – Superpowers to the people\nKhaled Reguieg\, Roboverse Reply\n19:40 Immersive Serious Games: The Tomb of Sextius Florentinus\nPatrick Schnorbus & Jerome Rose\, HBK Essen\n19:55 – 21:15 DLD Winners\, Party\, Networking & Metaverse demos\n\nSo\, save the date 📆\, bring your #TechPassion\, and prepare to dive into the magnetic universe of #Unity3D. We can’t wait to welcome you! \nEvent Powered by Unity Technologies & Ignore Gravity GmbH & DLD Conferences💖 \nMeet Ignore Gravity:\nWe work with companies initiating and implementing transformation processes. Our practice also involves supporting leaders\, teams and organisations\, ensuring they grow with meaning and purpose.\nWith formats such as Leadership Development Programs\, Learning Journeys\, Leadership Conferences\, Innovation Camps\, Strategy Development and Accelerator Programs\, ignore gravity promotes the sustainable change and renewal of medium-sized companies and international corporations.\nStrongly rooted in the Berlin startup community we promote the exchange between established companies and young founders.\nWe start every project with a challenging question and the firm intention to break old patterns\, rules and traditional ways of thinking.\nDepending on the gravity\, we apply learning journeys\, leadership conferences as well as un-conferences\, innovation camps\, accelerator programmes\, strategy processes and more to achieve long-term change and renewal in organisations.\nWho do we work with? Anyone. We’ve worked with everyone seeking to ignore gravity\, from medium-sized companies and global corporations\, family run businesses and agencies to startups\, NGOs and universities.\nhttps://www.ignore-gravity.com
URL:https://www.meetxr.de/event/ig-unity-developers-hangout-1-spatial-computing-ai-metaverse/
LOCATION:ignore gravity\, Köpenicker Str. 147\, Berlin\, 10997\, Deutschland
CATEGORIES:talk
ATTACH;FMTTYPE=image/webp:https://www.meetxr.de/wp-content/uploads/2023/08/2023-08-14_UnityDevelopersHangout1.webp
END:VEVENT
END:VCALENDAR