BEGIN:VCALENDAR
VERSION:2.0
PRODID:-//meetXR - ECPv5.8.0//NONSGML v1.0//EN
CALSCALE:GREGORIAN
METHOD:PUBLISH
X-WR-CALNAME:meetXR
X-ORIGINAL-URL:https://www.meetxr.de
X-WR-CALDESC:Veranstaltungen für meetXR
BEGIN:VTIMEZONE
TZID:Europe/Berlin
BEGIN:DAYLIGHT
TZOFFSETFROM:+0100
TZOFFSETTO:+0200
TZNAME:CEST
DTSTART:20210328T010000
END:DAYLIGHT
BEGIN:STANDARD
TZOFFSETFROM:+0200
TZOFFSETTO:+0100
TZNAME:CET
DTSTART:20211031T010000
END:STANDARD
END:VTIMEZONE
BEGIN:VEVENT
DTSTART;VALUE=DATE:20210327
DTEND;VALUE=DATE:20210405
DTSTAMP:20260425T212758
CREATED:20210305T152646Z
LAST-MODIFIED:20210305T152646Z
UID:2896-1616814000-1617505199@www.meetxr.de
SUMMARY:IEEE VR
DESCRIPTION:The IEEE Conference on Virtual Reality and 3D User Interfaces (IEEE VR) is the premier international event for the presentation of research results in the broad areas of virtual\, augmented\, and mixed reality (VR/AR/XR). Since 1993\, IEEE VR has presented groundbreaking research and accomplishments by virtual reality pioneers: scientists\, engineers\, designers\, and artists\, paving the way for the future. Soon\, IEEE VR expanded its scope to also include augmented\, mixed\, and other forms of mediated reality. Similarly\, the IEEE Symposium on 3D User Interfaces (3DUI)\, which started as a workshop at IEEE VR in 2004\, has become the premier venue for 3D user interfaces and 3D interaction in virtual environments. In 2018\, VR and 3DUI were merged into the IEEE Conference on Virtual Reality and 3D User Interfaces\, with the short name IEEE VR. In 2020\, VR was the first major IEEE conference to be held entirely online and in a virtual environment.
URL:https://www.meetxr.de/event/ieee-vr/
LOCATION:Online Event\, online
CATEGORIES:talk
ATTACH;FMTTYPE=image/jpeg:https://www.meetxr.de/wp-content/uploads/2021/03/2021-03-27_IEEEVR.jpg
END:VEVENT
END:VCALENDAR